BEGIN:VCALENDAR
VERSION:2.0
PRODID:-//ABC123 The Wrens Nest Daycare - ECPv6.15.20//NONSGML v1.0//EN
CALSCALE:GREGORIAN
METHOD:PUBLISH
X-WR-CALNAME:ABC123 The Wrens Nest Daycare
X-ORIGINAL-URL:https://thewrensnestdaycare.com
X-WR-CALDESC:Events for ABC123 The Wrens Nest Daycare
REFRESH-INTERVAL;VALUE=DURATION:PT1H
X-Robots-Tag:noindex
X-PUBLISHED-TTL:PT1H
BEGIN:VTIMEZONE
TZID:America/Kentucky/Louisville
BEGIN:DAYLIGHT
TZOFFSETFROM:-0500
TZOFFSETTO:-0400
TZNAME:EDT
DTSTART:20220313T070000
END:DAYLIGHT
BEGIN:STANDARD
TZOFFSETFROM:-0400
TZOFFSETTO:-0500
TZNAME:EST
DTSTART:20221106T060000
END:STANDARD
BEGIN:DAYLIGHT
TZOFFSETFROM:-0500
TZOFFSETTO:-0400
TZNAME:EDT
DTSTART:20230312T070000
END:DAYLIGHT
BEGIN:STANDARD
TZOFFSETFROM:-0400
TZOFFSETTO:-0500
TZNAME:EST
DTSTART:20231105T060000
END:STANDARD
BEGIN:DAYLIGHT
TZOFFSETFROM:-0500
TZOFFSETTO:-0400
TZNAME:EDT
DTSTART:20240310T070000
END:DAYLIGHT
BEGIN:STANDARD
TZOFFSETFROM:-0400
TZOFFSETTO:-0500
TZNAME:EST
DTSTART:20241103T060000
END:STANDARD
END:VTIMEZONE
BEGIN:VEVENT
DTSTART;VALUE=DATE:20230929
DTEND;VALUE=DATE:20230930
DTSTAMP:20260421T003844
CREATED:20230909T214637Z
LAST-MODIFIED:20230909T214637Z
UID:1466-1695945600-1696031999@thewrensnestdaycare.com
SUMMARY:Meal Plan
DESCRIPTION:Breakfast:\nFRENCH TOAST STIX \nAPPLESAUCE \nMILK \n\nSnack:\nSUN CHIPS (SUB WHEAT CRACKERS) \nWHITE GRAPE JUICE \n\nLunch:\nTACO SALAD LETT/TOM/CHEESE \nMIXED VEGGIES \nMANDARIN ORANGES \nTORTILLA CHIPS \nMILK
URL:https://thewrensnestdaycare.com/menu/meal-plan-469/
CATEGORIES:Meal
END:VEVENT
BEGIN:VEVENT
DTSTART;VALUE=DATE:20230928
DTEND;VALUE=DATE:20230929
DTSTAMP:20260421T003844
CREATED:20230909T214159Z
LAST-MODIFIED:20230909T214159Z
UID:1464-1695859200-1695945599@thewrensnestdaycare.com
SUMMARY:Meal Plan
DESCRIPTION:Breakfast:\nWAFFLES W SYRUP \nPEACHES \nMILK \n\nSnack:\nBOLOGNA SANDWICH \nWATER \n\nLunch:\nHOT DOG/RIB PATTY \nPINTO BEANS \nPEARS \nBUN/BREAD SLICE \nMILK
URL:https://thewrensnestdaycare.com/menu/meal-plan-468/
CATEGORIES:Meal
END:VEVENT
BEGIN:VEVENT
DTSTART;VALUE=DATE:20230927
DTEND;VALUE=DATE:20230928
DTSTAMP:20260421T003844
CREATED:20230909T213735Z
LAST-MODIFIED:20230909T213735Z
UID:1462-1695772800-1695859199@thewrensnestdaycare.com
SUMMARY:Meal Plan
DESCRIPTION:Breakfast:\nCHEERIOS \nBANANA \nMILK \n\nSnack:\nGOLDFISH (SUB TEDDY GRAHAMS) \nMILK \n\nLunch:\nPORK CHOP PATTY \nGREEN BEANS \nAPRICOTS \nBREAD SLICE \nMILK
URL:https://thewrensnestdaycare.com/menu/meal-plan-467/
CATEGORIES:Meal
END:VEVENT
BEGIN:VEVENT
DTSTART;VALUE=DATE:20230926
DTEND;VALUE=DATE:20230927
DTSTAMP:20260421T003844
CREATED:20230909T213418Z
LAST-MODIFIED:20230909T213418Z
UID:1460-1695686400-1695772799@thewrensnestdaycare.com
SUMMARY:Meal Plan
DESCRIPTION:Breakfast:\nHASHBROWN PATTY \nMIXED FRUIT \nBREAD SLICE \nMILK \n\nSnack:\nPANCAKE \nMILK \n\nLunch:\nITALIAN CHICKEN STRIPS \nPEAS \nPINEAPPLES \nBREAD SLICE \nMILK
URL:https://thewrensnestdaycare.com/menu/meal-plan-466/
CATEGORIES:Meal
END:VEVENT
BEGIN:VEVENT
DTSTART;VALUE=DATE:20230925
DTEND;VALUE=DATE:20230926
DTSTAMP:20260421T003844
CREATED:20230909T213117Z
LAST-MODIFIED:20230909T213117Z
UID:1458-1695600000-1695686399@thewrensnestdaycare.com
SUMMARY:Meal Plan
DESCRIPTION:Breakfast:\nBISCUITS N GRAVY \nAPRICOTS \nMILK \n\nSnack:\nCHEX MIX \nAPPLE JUICE \n\nLunch:\nSPAGHETTI W MEAT SAUCE \nCORN \nAPPLES \nBREAD STIX \nMILK
URL:https://thewrensnestdaycare.com/menu/meal-plan-465/
CATEGORIES:Meal
END:VEVENT
BEGIN:VEVENT
DTSTART;VALUE=DATE:20230922
DTEND;VALUE=DATE:20230923
DTSTAMP:20260421T003844
CREATED:20230909T212759Z
LAST-MODIFIED:20230909T212759Z
UID:1456-1695340800-1695427199@thewrensnestdaycare.com
SUMMARY:Meal Plan
DESCRIPTION:Breakfast:\nBLUEBERRY MUFFIN \nMANDARIN ORANGES \nMILK \n\nSnack:\nANIMAL CRACKERS \nYOGURT (SUB MILK) \nWATER \n\nLunch:\nHOT DOG/CHICKEN PATTY \nMIXED VEGGIES \nAPRICOTS \nBUN/BREAD SLICE \nMILK
URL:https://thewrensnestdaycare.com/menu/meal-plan-464/
CATEGORIES:Meal
END:VEVENT
BEGIN:VEVENT
DTSTART;VALUE=DATE:20230921
DTEND;VALUE=DATE:20230922
DTSTAMP:20260421T003844
CREATED:20230909T212307Z
LAST-MODIFIED:20230909T212307Z
UID:1454-1695254400-1695340799@thewrensnestdaycare.com
SUMMARY:Meal Plan
DESCRIPTION:Breakfast:\nPANCAKE W/SYRUP \nAPPLESAUCE \nMILK \n\nSnack:\nFRENCH TOAST STIX \nMILK \n\nLunch:\nTURKEY N GRAVY \nGREEN BEANS \nPEARS \nROLL \nMILK
URL:https://thewrensnestdaycare.com/menu/meal-plan-463/
CATEGORIES:Meal
END:VEVENT
BEGIN:VEVENT
DTSTART;VALUE=DATE:20230920
DTEND;VALUE=DATE:20230921
DTSTAMP:20260421T003844
CREATED:20230909T212103Z
LAST-MODIFIED:20230909T212103Z
UID:1452-1695168000-1695254399@thewrensnestdaycare.com
SUMMARY:Meal Plan
DESCRIPTION:Breakfast:\nKIX CEREAL \nBANANA \nMILK \n\nSnack:\nHONEY GRAHAMS \nPEANUT BUTTER (SUB WOW BUTTER \nWATER \n\nLunch:\nHOMEMADE CHILI \nCORN \nPEACHES \nGRILLED CHEESE (SUB CRACKERS) \nMILK
URL:https://thewrensnestdaycare.com/menu/meal-plan-462/
CATEGORIES:Meal
END:VEVENT
BEGIN:VEVENT
DTSTART;VALUE=DATE:20230919
DTEND;VALUE=DATE:20230920
DTSTAMP:20260421T003844
CREATED:20230909T211538Z
LAST-MODIFIED:20230909T211538Z
UID:1450-1695081600-1695167999@thewrensnestdaycare.com
SUMMARY:Meal Plan
DESCRIPTION:Breakfast:\nCINNAMON FLATBREAD \nAPRICOTS \nMILK \n\nSnack:\nWHEAT CRACKERS \nSTRING CHEESE (SUB JUICE) \nWATER \n\nLunch:\nBBQ PORK SANDWICH \nBAKED BEANS \nPINEAPPLE \nBUN/DORITOS \nMILK
URL:https://thewrensnestdaycare.com/menu/meal-plan-461/
CATEGORIES:Meal
END:VEVENT
BEGIN:VEVENT
DTSTART;VALUE=DATE:20230918
DTEND;VALUE=DATE:20230919
DTSTAMP:20260421T003844
CREATED:20230909T211034Z
LAST-MODIFIED:20230909T211034Z
UID:1447-1694995200-1695081599@thewrensnestdaycare.com
SUMMARY:Meal Plan
DESCRIPTION:Breakfast:\nSAUSAGE BISCUIT \nCINNAMON APPLES \nMILK \n\nSnack:\nCINNAMON GRAHAMS \nWHITE GRAPE JUICE \n\nLunch:\nCHICKEN NUGGETS \nLIMA BEANS \nMIXED FRUIT \nBREAD SLICE \nMILK
URL:https://thewrensnestdaycare.com/menu/meal-plan-460/
CATEGORIES:Meal
END:VEVENT
BEGIN:VEVENT
DTSTART;VALUE=DATE:20230915
DTEND;VALUE=DATE:20230916
DTSTAMP:20260421T003844
CREATED:20230828T143347Z
LAST-MODIFIED:20230828T143347Z
UID:1445-1694736000-1694822399@thewrensnestdaycare.com
SUMMARY:Meal Plan
DESCRIPTION:Breakfast:\nSAUSAGE BISCUIT \nAPPLESAUCE \nMILK \n\nSnack:\nSUN CHIPS \nAPPLE JUICE \n\nLunch:\nBEEF N BEAN BURRITO \nCORN \nPEACHES \nRICE \nMILK
URL:https://thewrensnestdaycare.com/menu/meal-plan-459/
CATEGORIES:Meal
END:VEVENT
BEGIN:VEVENT
DTSTART;VALUE=DATE:20230914
DTEND;VALUE=DATE:20230915
DTSTAMP:20260421T003844
CREATED:20230828T143213Z
LAST-MODIFIED:20230828T143213Z
UID:1443-1694649600-1694735999@thewrensnestdaycare.com
SUMMARY:Meal Plan
DESCRIPTION:Breakfast:\nBISCUITS N GRAVY \nMIXED FRUIT \nMILK \n\nSnack:\nBLUEBERRY MUFFIN \nMILK \n\nLunch:\nBBQ RIB PATTY \nCARROTS \nMANDARIN ORANGES \nBREAD SLICE \nMILK
URL:https://thewrensnestdaycare.com/menu/meal-plan-458/
CATEGORIES:Meal
END:VEVENT
BEGIN:VEVENT
DTSTART;VALUE=DATE:20230913
DTEND;VALUE=DATE:20230914
DTSTAMP:20260421T003844
CREATED:20230828T143019Z
LAST-MODIFIED:20230828T143019Z
UID:1441-1694563200-1694649599@thewrensnestdaycare.com
SUMMARY:Meal Plan
DESCRIPTION:Breakfast:\nCHEX CEREAL \nBANANA \nMILK \n\nSnack:\nBANANA BREAD \nMILK \n\nLunch:\nHOMEMADE VEGETABLE SOUP \nLIMA BEANS \nAPRICOTS \nRITZ CRACKERS \nMILK
URL:https://thewrensnestdaycare.com/menu/meal-plan-457/
CATEGORIES:Meal
END:VEVENT
BEGIN:VEVENT
DTSTART;VALUE=DATE:20230912
DTEND;VALUE=DATE:20230913
DTSTAMP:20260421T003844
CREATED:20230828T142721Z
LAST-MODIFIED:20230828T142721Z
UID:1439-1694476800-1694563199@thewrensnestdaycare.com
SUMMARY:Meal Plan
DESCRIPTION:Breakfast:\nFRENCH TOAST STIX \nPEACHES \nMILK \n\nSnack:\nPRETZELS \nCHEESE CUBES (SUB PEANUT BUTTER) \nWATER \n\nLunch:\nLEMON PEPPER CHICKEN \nPEAS \nCINNAMON APPLES \nBREAD SLICE \nMILK
URL:https://thewrensnestdaycare.com/menu/meal-plan-456/
CATEGORIES:Meal
END:VEVENT
BEGIN:VEVENT
DTSTART;VALUE=DATE:20230911
DTEND;VALUE=DATE:20230912
DTSTAMP:20260421T003844
CREATED:20230828T142512Z
LAST-MODIFIED:20230828T142512Z
UID:1437-1694390400-1694476799@thewrensnestdaycare.com
SUMMARY:Meal Plan
DESCRIPTION:Breakfast:\nHASHBROWN PATTY \nPINEAPPLES \nBREAD SLICE \nMILK \n\nSnack:\nTURKEY SANDWICH \nWATER \n\nLunch:\nTACO SALAD \nLETT/TOM/CHEESE \nCORN \nPEARS \nTORTILLA CHIPS \nMILK
URL:https://thewrensnestdaycare.com/menu/meal-plan-455/
CATEGORIES:Meal
END:VEVENT
BEGIN:VEVENT
DTSTART;VALUE=DATE:20230908
DTEND;VALUE=DATE:20230909
DTSTAMP:20260421T003844
CREATED:20230828T142132Z
LAST-MODIFIED:20230828T142132Z
UID:1435-1694131200-1694217599@thewrensnestdaycare.com
SUMMARY:Meal Plan
DESCRIPTION:Breakfast:\nORANGE MUFFIN \nMANDARIN ORANGES \nMILK \n\nSnack:\nPIZZA STICK (SUB TEDDY GRAHAMS) \nWHITE GRAPE JUICE \n\nLunch:\nCHICKEN NUGGETS \nPEAS \nPINEAPPLES \nBREAD SLICE \nMILK
URL:https://thewrensnestdaycare.com/menu/meal-plan-454/
CATEGORIES:Meal
END:VEVENT
BEGIN:VEVENT
DTSTART;VALUE=DATE:20230907
DTEND;VALUE=DATE:20230908
DTSTAMP:20260421T003844
CREATED:20230828T141342Z
LAST-MODIFIED:20230828T141342Z
UID:1433-1694044800-1694131199@thewrensnestdaycare.com
SUMMARY:Meal Plan
DESCRIPTION:Breakfast:\nRAISIN TOAST \nAPPLES \nMILK \n\nSnack:\nRITZ CRACKERS \nSTRING CHEESE (SUB MILK) \nWATER \n\nLunch:\nSLOPPY JOES \nBROCCOLI \nMIXED FRUIT \nBUN \nMILK
URL:https://thewrensnestdaycare.com/menu/meal-plan-453/
CATEGORIES:Meal
END:VEVENT
BEGIN:VEVENT
DTSTART;VALUE=DATE:20230906
DTEND;VALUE=DATE:20230907
DTSTAMP:20260421T003844
CREATED:20230828T140740Z
LAST-MODIFIED:20230828T140740Z
UID:1431-1693958400-1694044799@thewrensnestdaycare.com
SUMMARY:Meal Plan
DESCRIPTION:Breakfast:\nCHEERIOS \nBANANA \nMILK \n\nSnack:\nCHEX MIX \nMILK \n\nLunch:\nHAM N TURKEY SUBS \nGREEN BEANS \nAPPLESAUCE \nBUN/CHIPS \nMILK
URL:https://thewrensnestdaycare.com/menu/meal-plan-452/
CATEGORIES:Meal
END:VEVENT
BEGIN:VEVENT
DTSTART;VALUE=DATE:20230905
DTEND;VALUE=DATE:20230906
DTSTAMP:20260421T003844
CREATED:20230828T140351Z
LAST-MODIFIED:20230828T140351Z
UID:1428-1693872000-1693958399@thewrensnestdaycare.com
SUMMARY:Meal Plan
DESCRIPTION:Breakfast:\nSAUSAGE BISCUIT \nPINEAPPLE \nMILK \n\nSnack:\nPB&J JAMMWICH (SUB WOW BUTTER &JELLY SANDWICH) \nMILK \n\nLunch:\nHOMEMADE BEEF GOULASH \nPINTO BEANS \nCORNBREAD \nMILK
URL:https://thewrensnestdaycare.com/menu/meal-plan-451/
CATEGORIES:Meal
END:VEVENT
BEGIN:VEVENT
DTSTART;VALUE=DATE:20230904
DTEND;VALUE=DATE:20230905
DTSTAMP:20260421T003844
CREATED:20230828T140115Z
LAST-MODIFIED:20230828T140115Z
UID:1426-1693785600-1693871999@thewrensnestdaycare.com
SUMMARY:Meal Plan
DESCRIPTION:Breakfast:\nCENTER CLOSED \n\nSnack:\nCENTER CLOSED \n\nLunch:\nCENTER CLOSED
URL:https://thewrensnestdaycare.com/menu/meal-plan-450/
CATEGORIES:Meal
END:VEVENT
BEGIN:VEVENT
DTSTART;VALUE=DATE:20230901
DTEND;VALUE=DATE:20230902
DTSTAMP:20260421T003844
CREATED:20230828T135432Z
LAST-MODIFIED:20230828T140500Z
UID:1423-1693526400-1693612799@thewrensnestdaycare.com
SUMMARY:Meal Plan
DESCRIPTION:Breakfast:\nCINNAMON FLATBREAD \nPINEAPPLES \nMILK \n\nSnack:\nBOLOGNA SANDWICH \nWATER \n\nLunch:\nCHICKEN PATTY \nGLAZED CARROTS \nMIXED FRUIT \nBREAD SLICE \nMILK
URL:https://thewrensnestdaycare.com/menu/meal-plan-449/
CATEGORIES:Meal
END:VEVENT
BEGIN:VEVENT
DTSTART;VALUE=DATE:20230831
DTEND;VALUE=DATE:20230901
DTSTAMP:20260421T003844
CREATED:20230807T150458Z
LAST-MODIFIED:20230828T135615Z
UID:1416-1693440000-1693526399@thewrensnestdaycare.com
SUMMARY:Meal Plan
DESCRIPTION:Breakfast:\nHASHBROWN PATTY \nAPPLESAUCE \nBREAD SLICE \nMILK \n\nSnack:\nSUN CHIPS \nMILK \n\nLunch:\nHOT DOG/RIB PATTY \nPEAS \nCINNAMON APPLES \nBUN/BREAD/CHIPS \nMILK
URL:https://thewrensnestdaycare.com/menu/meal-plan-448/
CATEGORIES:Meal
END:VEVENT
BEGIN:VEVENT
DTSTART;VALUE=DATE:20230830
DTEND;VALUE=DATE:20230831
DTSTAMP:20260421T003844
CREATED:20230807T150302Z
LAST-MODIFIED:20230807T150302Z
UID:1414-1693353600-1693439999@thewrensnestdaycare.com
SUMMARY:Meal Plan
DESCRIPTION:Breakfast:\nCORN FLAKES \nBANANA \nMILK \n\nSnack:\nCHEX MIX \nWHITE GRAPE JUICE \n\nLunch:\nMEATLOAF \nGREEN BEANS \nPEACHES \nROLL \nMILK
URL:https://thewrensnestdaycare.com/menu/meal-plan-447/
CATEGORIES:Meal
END:VEVENT
BEGIN:VEVENT
DTSTART;VALUE=DATE:20230829
DTEND;VALUE=DATE:20230830
DTSTAMP:20260421T003844
CREATED:20230807T145948Z
LAST-MODIFIED:20230807T145948Z
UID:1411-1693267200-1693353599@thewrensnestdaycare.com
SUMMARY:Meal Plan
DESCRIPTION:Breakfast:\nSAUSAGE BISCUIT \nPEACHES \nMILK \n\nSnack:\nTURKEY SANDWICH \nWATER \n\nLunch:\nCHICKEN NUGGETS \nCORN \nAPPLESAUCE \nBREAD SLICE \nMILK
URL:https://thewrensnestdaycare.com/menu/meal-plan-446/
CATEGORIES:Meal
END:VEVENT
BEGIN:VEVENT
DTSTART;VALUE=DATE:20230828
DTEND;VALUE=DATE:20230829
DTSTAMP:20260421T003844
CREATED:20230807T145804Z
LAST-MODIFIED:20230807T145804Z
UID:1409-1693180800-1693267199@thewrensnestdaycare.com
SUMMARY:Meal Plan
DESCRIPTION:Breakfast:\nPANCAKE W/SYRUP \nAPRICOTS \nMILK \n\nSnack:\nCHEESE NIPS (SUB SUN CHIPS) \nAPPLE JUICE \n\nLunch:\nPORK BBQ ON BUN \nLIMA BEANS \nPINEAPPLES \nBUN \nMILK
URL:https://thewrensnestdaycare.com/menu/meal-plan-445/
CATEGORIES:Meal
END:VEVENT
BEGIN:VEVENT
DTSTART;VALUE=DATE:20230825
DTEND;VALUE=DATE:20230826
DTSTAMP:20260421T003844
CREATED:20230807T145526Z
LAST-MODIFIED:20230807T150035Z
UID:1407-1692921600-1693007999@thewrensnestdaycare.com
SUMMARY:Meal Plan
DESCRIPTION:Breakfast:\nBAGEL W/CREAM CHEESE \nAPPLESAUCE \nMILK \n\nSnack:\nYOGURT (SUB MILK) \nANIMAL CRACKERS \nWATER \n\nLunch:\nHOT DOG/CHICKEN PATTY \nPEAS \nPEARS \nBUN/BREAD \nMILK
URL:https://thewrensnestdaycare.com/menu/meal-plan-444/
CATEGORIES:Meal
END:VEVENT
BEGIN:VEVENT
DTSTART;VALUE=DATE:20230824
DTEND;VALUE=DATE:20230825
DTSTAMP:20260421T003844
CREATED:20230807T145252Z
LAST-MODIFIED:20230807T145252Z
UID:1405-1692835200-1692921599@thewrensnestdaycare.com
SUMMARY:Meal Plan
DESCRIPTION:Breakfast:\nCINNAMON FLAT BREAD \nPEACHES \nMILK \n\nSnack:\nBLUEBERRY MUFFIN \nMILK \n\nLunch:\nPORKCHOP PATTY \nBAKED BEANS \nMIXED FRUIT \nBREAD SLICE \nMILK
URL:https://thewrensnestdaycare.com/menu/meal-plan-443/
CATEGORIES:Meal
END:VEVENT
BEGIN:VEVENT
DTSTART;VALUE=DATE:20230823
DTEND;VALUE=DATE:20230824
DTSTAMP:20260421T003844
CREATED:20230807T144907Z
LAST-MODIFIED:20230807T144907Z
UID:1403-1692748800-1692835199@thewrensnestdaycare.com
SUMMARY:Meal Plan
DESCRIPTION:Breakfast:\nLIFE CEREAL \nBANANA \nMILK \n\nSnack:\nKIX CEREAL \nMILK \n\nLunch:\nBEEF TACO SALAD LETT/TOM/CHEESE \nCORN \nPINEAPPLES \nTORTILLA CHIPS \nMILK
URL:https://thewrensnestdaycare.com/menu/meal-plan-442/
CATEGORIES:Meal
END:VEVENT
BEGIN:VEVENT
DTSTART;VALUE=DATE:20230822
DTEND;VALUE=DATE:20230823
DTSTAMP:20260421T003844
CREATED:20230807T144637Z
LAST-MODIFIED:20230807T144637Z
UID:1401-1692662400-1692748799@thewrensnestdaycare.com
SUMMARY:Meal Plan
DESCRIPTION:Breakfast:\nBISCUIT W/JELLY \nMIXED FRUIT \nMILK \n\nSnack:\nCINNAMON GRAHAMS \nWHITE GRAPE JUICE \n\nLunch:\nPOT ROAST \nPOTATOES/CARROTS \nAPRICOTS \nROLL \nMILK
URL:https://thewrensnestdaycare.com/menu/meal-plan-441/
CATEGORIES:Meal
END:VEVENT
BEGIN:VEVENT
DTSTART;VALUE=DATE:20230821
DTEND;VALUE=DATE:20230822
DTSTAMP:20260421T003844
CREATED:20230807T144253Z
LAST-MODIFIED:20230807T144253Z
UID:1399-1692576000-1692662399@thewrensnestdaycare.com
SUMMARY:Meal Plan
DESCRIPTION:Breakfast:\nOATMEAL \nPINEAPPLES \nMILK \n\nSnack:\nGOLDFISH (SUB CHEX MIX) \nAPPLE JUICE \n\nLunch:\nBBQ RIB PATTY \nLIMA BEANS \nAPPLESAUCE \nBREAD SLICE \nMILK
URL:https://thewrensnestdaycare.com/menu/meal-plan-440/
CATEGORIES:Meal
END:VEVENT
END:VCALENDAR