BEGIN:VCALENDAR
VERSION:2.0
PRODID:-//ABC123 The Wrens Nest Daycare - ECPv6.15.20//NONSGML v1.0//EN
CALSCALE:GREGORIAN
METHOD:PUBLISH
X-WR-CALNAME:ABC123 The Wrens Nest Daycare
X-ORIGINAL-URL:https://thewrensnestdaycare.com
X-WR-CALDESC:Events for ABC123 The Wrens Nest Daycare
REFRESH-INTERVAL;VALUE=DURATION:PT1H
X-Robots-Tag:noindex
X-PUBLISHED-TTL:PT1H
BEGIN:VTIMEZONE
TZID:America/Kentucky/Louisville
BEGIN:DAYLIGHT
TZOFFSETFROM:-0500
TZOFFSETTO:-0400
TZNAME:EDT
DTSTART:20220313T070000
END:DAYLIGHT
BEGIN:STANDARD
TZOFFSETFROM:-0400
TZOFFSETTO:-0500
TZNAME:EST
DTSTART:20221106T060000
END:STANDARD
BEGIN:DAYLIGHT
TZOFFSETFROM:-0500
TZOFFSETTO:-0400
TZNAME:EDT
DTSTART:20230312T070000
END:DAYLIGHT
BEGIN:STANDARD
TZOFFSETFROM:-0400
TZOFFSETTO:-0500
TZNAME:EST
DTSTART:20231105T060000
END:STANDARD
BEGIN:DAYLIGHT
TZOFFSETFROM:-0500
TZOFFSETTO:-0400
TZNAME:EDT
DTSTART:20240310T070000
END:DAYLIGHT
BEGIN:STANDARD
TZOFFSETFROM:-0400
TZOFFSETTO:-0500
TZNAME:EST
DTSTART:20241103T060000
END:STANDARD
END:VTIMEZONE
BEGIN:VEVENT
DTSTART;VALUE=DATE:20230828
DTEND;VALUE=DATE:20230829
DTSTAMP:20260421T170653
CREATED:20230807T145804Z
LAST-MODIFIED:20230807T145804Z
UID:1409-1693180800-1693267199@thewrensnestdaycare.com
SUMMARY:Meal Plan
DESCRIPTION:Breakfast:\nPANCAKE W/SYRUP \nAPRICOTS \nMILK \n\nSnack:\nCHEESE NIPS (SUB SUN CHIPS) \nAPPLE JUICE \n\nLunch:\nPORK BBQ ON BUN \nLIMA BEANS \nPINEAPPLES \nBUN \nMILK
URL:https://thewrensnestdaycare.com/menu/meal-plan-445/
CATEGORIES:Meal
END:VEVENT
BEGIN:VEVENT
DTSTART;VALUE=DATE:20230825
DTEND;VALUE=DATE:20230826
DTSTAMP:20260421T170653
CREATED:20230807T145526Z
LAST-MODIFIED:20230807T150035Z
UID:1407-1692921600-1693007999@thewrensnestdaycare.com
SUMMARY:Meal Plan
DESCRIPTION:Breakfast:\nBAGEL W/CREAM CHEESE \nAPPLESAUCE \nMILK \n\nSnack:\nYOGURT (SUB MILK) \nANIMAL CRACKERS \nWATER \n\nLunch:\nHOT DOG/CHICKEN PATTY \nPEAS \nPEARS \nBUN/BREAD \nMILK
URL:https://thewrensnestdaycare.com/menu/meal-plan-444/
CATEGORIES:Meal
END:VEVENT
BEGIN:VEVENT
DTSTART;VALUE=DATE:20230824
DTEND;VALUE=DATE:20230825
DTSTAMP:20260421T170653
CREATED:20230807T145252Z
LAST-MODIFIED:20230807T145252Z
UID:1405-1692835200-1692921599@thewrensnestdaycare.com
SUMMARY:Meal Plan
DESCRIPTION:Breakfast:\nCINNAMON FLAT BREAD \nPEACHES \nMILK \n\nSnack:\nBLUEBERRY MUFFIN \nMILK \n\nLunch:\nPORKCHOP PATTY \nBAKED BEANS \nMIXED FRUIT \nBREAD SLICE \nMILK
URL:https://thewrensnestdaycare.com/menu/meal-plan-443/
CATEGORIES:Meal
END:VEVENT
BEGIN:VEVENT
DTSTART;VALUE=DATE:20230823
DTEND;VALUE=DATE:20230824
DTSTAMP:20260421T170653
CREATED:20230807T144907Z
LAST-MODIFIED:20230807T144907Z
UID:1403-1692748800-1692835199@thewrensnestdaycare.com
SUMMARY:Meal Plan
DESCRIPTION:Breakfast:\nLIFE CEREAL \nBANANA \nMILK \n\nSnack:\nKIX CEREAL \nMILK \n\nLunch:\nBEEF TACO SALAD LETT/TOM/CHEESE \nCORN \nPINEAPPLES \nTORTILLA CHIPS \nMILK
URL:https://thewrensnestdaycare.com/menu/meal-plan-442/
CATEGORIES:Meal
END:VEVENT
BEGIN:VEVENT
DTSTART;VALUE=DATE:20230822
DTEND;VALUE=DATE:20230823
DTSTAMP:20260421T170653
CREATED:20230807T144637Z
LAST-MODIFIED:20230807T144637Z
UID:1401-1692662400-1692748799@thewrensnestdaycare.com
SUMMARY:Meal Plan
DESCRIPTION:Breakfast:\nBISCUIT W/JELLY \nMIXED FRUIT \nMILK \n\nSnack:\nCINNAMON GRAHAMS \nWHITE GRAPE JUICE \n\nLunch:\nPOT ROAST \nPOTATOES/CARROTS \nAPRICOTS \nROLL \nMILK
URL:https://thewrensnestdaycare.com/menu/meal-plan-441/
CATEGORIES:Meal
END:VEVENT
BEGIN:VEVENT
DTSTART;VALUE=DATE:20230821
DTEND;VALUE=DATE:20230822
DTSTAMP:20260421T170653
CREATED:20230807T144253Z
LAST-MODIFIED:20230807T144253Z
UID:1399-1692576000-1692662399@thewrensnestdaycare.com
SUMMARY:Meal Plan
DESCRIPTION:Breakfast:\nOATMEAL \nPINEAPPLES \nMILK \n\nSnack:\nGOLDFISH (SUB CHEX MIX) \nAPPLE JUICE \n\nLunch:\nBBQ RIB PATTY \nLIMA BEANS \nAPPLESAUCE \nBREAD SLICE \nMILK
URL:https://thewrensnestdaycare.com/menu/meal-plan-440/
CATEGORIES:Meal
END:VEVENT
BEGIN:VEVENT
DTSTART;VALUE=DATE:20230818
DTEND;VALUE=DATE:20230819
DTSTAMP:20260421T170653
CREATED:20230807T144018Z
LAST-MODIFIED:20230807T144018Z
UID:1397-1692316800-1692403199@thewrensnestdaycare.com
SUMMARY:Meal Plan
DESCRIPTION:Breakfast:\nBLUEBERRY MUFFIN \nAPPLES \nMILK \n\nSnack:\nBOLOGNA SANDWICH \nWATER \n\nLunch:\nGOULASH \nGREEN BEANS \nPEACHES \nCORNBREAD \nMILK
URL:https://thewrensnestdaycare.com/menu/meal-plan-439/
CATEGORIES:Meal
END:VEVENT
BEGIN:VEVENT
DTSTART;VALUE=DATE:20230817
DTEND;VALUE=DATE:20230818
DTSTAMP:20260421T170653
CREATED:20230807T143533Z
LAST-MODIFIED:20230807T143533Z
UID:1395-1692230400-1692316799@thewrensnestdaycare.com
SUMMARY:Meal Plan
DESCRIPTION:Breakfast:\nPANCAKE W/SYRUP \nPEARS \nMILK \n\nSnack:\nFRENCH TOAST STIX \nMILK \n\nLunch:\nSALISBURY STEAK \nLIMA BEANS \nAPRICOTS \nBREAD SLICE \nMILK
URL:https://thewrensnestdaycare.com/menu/meal-plan-438/
CATEGORIES:Meal
END:VEVENT
BEGIN:VEVENT
DTSTART;VALUE=DATE:20230816
DTEND;VALUE=DATE:20230817
DTSTAMP:20260421T170653
CREATED:20230807T143025Z
LAST-MODIFIED:20230807T143134Z
UID:1393-1692144000-1692230399@thewrensnestdaycare.com
SUMMARY:Meal Plan
DESCRIPTION:Breakfast:\nCHEX CEREAL \nBANANA \nMILK \n\nSnack:\nORANGE MUFFIN \nWHITE GRAPE JUICE \n\nLunch:\nSPAGHETTI W/MEAT SAUCE \nCORN \nPINEAPPLES \nBREAD STIX \nMILK
URL:https://thewrensnestdaycare.com/menu/meal-plan-437/
CATEGORIES:Meal
END:VEVENT
BEGIN:VEVENT
DTSTART;VALUE=DATE:20230815
DTEND;VALUE=DATE:20230816
DTSTAMP:20260421T170653
CREATED:20230807T142746Z
LAST-MODIFIED:20230807T142746Z
UID:1391-1692057600-1692143999@thewrensnestdaycare.com
SUMMARY:Meal Plan
DESCRIPTION:Breakfast:\nHASHBROWN PATTY \nAPRICOTS \nMILK \n\nSnack:\nPRETZELS \nCHEESE CUBES (SUB MILK) \nWATER \n\nLunch:\nBBQ CHICKEN STRIPS \nPEAS \nCINNAMON APPLES \nBREAD SLICE \nMILK
URL:https://thewrensnestdaycare.com/menu/meal-plan-436/
CATEGORIES:Meal
END:VEVENT
BEGIN:VEVENT
DTSTART;VALUE=DATE:20230814
DTEND;VALUE=DATE:20230815
DTSTAMP:20260421T170653
CREATED:20230807T142252Z
LAST-MODIFIED:20230807T142252Z
UID:1389-1691971200-1692057599@thewrensnestdaycare.com
SUMMARY:Meal Plan
DESCRIPTION:Breakfast:\nFRENCH TOAST STICKS \nPEACHES \nMILK \n\nSnack:\nPEANUT BUTTER (SUB WOW BUTTER) \nAPPLE SLICES \nWATER \n\nLunch:\nSLOPPY JOES \nGREEN BEANS \nAPPLESAUCE \nBUN \nMILK
URL:https://thewrensnestdaycare.com/menu/meal-plan-435/
CATEGORIES:Meal
END:VEVENT
BEGIN:VEVENT
DTSTART;VALUE=DATE:20230811
DTEND;VALUE=DATE:20230812
DTSTAMP:20260421T170653
CREATED:20230730T223505Z
LAST-MODIFIED:20230730T223505Z
UID:1387-1691712000-1691798399@thewrensnestdaycare.com
SUMMARY:Meal Plan
DESCRIPTION:Breakfast:\nWHOLE GRAIN TOAST W/JELLY \nPEARS \nMILK \n\nSnack:\nCINNAMON FLATBREAD \nMILK \n\nLunch:\nBEEF N BEAN BURRITO \nPEAS \nAPRICOTS \nRICE \nMILK
URL:https://thewrensnestdaycare.com/menu/meal-plan-434/
CATEGORIES:Meal
END:VEVENT
BEGIN:VEVENT
DTSTART;VALUE=DATE:20230810
DTEND;VALUE=DATE:20230811
DTSTAMP:20260421T170653
CREATED:20230730T223152Z
LAST-MODIFIED:20230730T223152Z
UID:1385-1691625600-1691711999@thewrensnestdaycare.com
SUMMARY:Meal Plan
DESCRIPTION:Breakfast:\nFRENCH TOAST STIX \nMANDARIN ORANGES \nMILK \n\nSnack:\nSUN CHIPS \nWHITE GRAPE JUICE \n\nLunch:\nCHICKEN PATTY \nMIXED VEGGIES \nMIXED FRUIT \nBREAD SLICE \nMILK
URL:https://thewrensnestdaycare.com/menu/meal-plan-433/
CATEGORIES:Meal
END:VEVENT
BEGIN:VEVENT
DTSTART;VALUE=DATE:20230809
DTEND;VALUE=DATE:20230810
DTSTAMP:20260421T170653
CREATED:20230730T220817Z
LAST-MODIFIED:20230810T200909Z
UID:1383-1691539200-1691625599@thewrensnestdaycare.com
SUMMARY:Meal Plan
DESCRIPTION:Breakfast:\nKIX CEREAL \nBANANA \nMILK \n\nSnack:\nPEANUT BUTTER JAMWICH (SUB WOW BUTTER SANDWICH \nMILK \n\nLunch:\nSPAGHETTI W/MEAT SAUCE \nCORN \nPEACHES \nBREAD STIX \nMILK
URL:https://thewrensnestdaycare.com/menu/meal-plan-432/
CATEGORIES:Meal
END:VEVENT
BEGIN:VEVENT
DTSTART;VALUE=DATE:20230808
DTEND;VALUE=DATE:20230809
DTSTAMP:20260421T170653
CREATED:20230730T214856Z
LAST-MODIFIED:20230810T200133Z
UID:1381-1691452800-1691539199@thewrensnestdaycare.com
SUMMARY:Meal Plan
DESCRIPTION:Breakfast:\nHASHBROWN PATTY \nPINEAPPLES \nBREAD SLICE \nMILK \n\nSnack:\nCHEX MIX \nMILK \n\nLunch:\nBAKED HAM \nGREEN BEANS \nPEARS \nROLL \nMILK
URL:https://thewrensnestdaycare.com/menu/meal-plan-431/
CATEGORIES:Meal
END:VEVENT
BEGIN:VEVENT
DTSTART;VALUE=DATE:20230807
DTEND;VALUE=DATE:20230808
DTSTAMP:20260421T170653
CREATED:20230730T214657Z
LAST-MODIFIED:20230730T214657Z
UID:1379-1691366400-1691452799@thewrensnestdaycare.com
SUMMARY:Meal Plan
DESCRIPTION:Breakfast:\nOATMEAL \nMIXED FRUIT \nMILK \n\nSnack:\nGOLDFISH (SUB ANIMAL CRACKERS) \nAPPLE JUICE \n\nLunch:\nCHICKEN NUGGETS \nLIMA BEANS \nAPPLESAUCE \nBREAD SLICE \nMILK
URL:https://thewrensnestdaycare.com/menu/meal-plan-430/
CATEGORIES:Meal
END:VEVENT
BEGIN:VEVENT
DTSTART;VALUE=DATE:20230804
DTEND;VALUE=DATE:20230805
DTSTAMP:20260421T170653
CREATED:20230730T214438Z
LAST-MODIFIED:20230730T214438Z
UID:1377-1691107200-1691193599@thewrensnestdaycare.com
SUMMARY:Meal Plan
DESCRIPTION:Breakfast:\nBISCUIT N GRAVY \nPEACHES \nMILK \n\nSnack:\nPIZZA STICK (SUB CHEX MIX) \nMILK \n\nLunch:\nCHICKEN PATTY \nGLAZED CARROTS \nPEARS \nBREAD SLICE \nMILK
URL:https://thewrensnestdaycare.com/menu/meal-plan-429/
CATEGORIES:Meal
END:VEVENT
BEGIN:VEVENT
DTSTART;VALUE=DATE:20230803
DTEND;VALUE=DATE:20230804
DTSTAMP:20260421T170653
CREATED:20230730T214239Z
LAST-MODIFIED:20230730T214239Z
UID:1375-1691020800-1691107199@thewrensnestdaycare.com
SUMMARY:Meal Plan
DESCRIPTION:Breakfast:\nCINNAMON RAISIN TOAST \nCOOKED APPLES \nMILK \n\nSnack:\nPANCAKE \nAPPLE JUICE \n\nLunch:\nBBQ PORK ON BUN \nBAKED BEANS \nMANDARIN ORANGES \nBUN \nMILK
URL:https://thewrensnestdaycare.com/menu/meal-plan-428/
CATEGORIES:Meal
END:VEVENT
BEGIN:VEVENT
DTSTART;VALUE=DATE:20230802
DTEND;VALUE=DATE:20230803
DTSTAMP:20260421T170653
CREATED:20230730T213927Z
LAST-MODIFIED:20230730T213927Z
UID:1373-1690934400-1691020799@thewrensnestdaycare.com
SUMMARY:Meal Plan
DESCRIPTION:Breakfast:\nCHEERIOS \nBANANA \nMILK \n\nSnack:\nHONEY GRAHAMS \nMILK \n\nLunch:\nLEMON PEPPER CHICKEN \nGREEN BEANS \nPEACHES \nROLL \nMILK
URL:https://thewrensnestdaycare.com/menu/meal-plan-427/
CATEGORIES:Meal
END:VEVENT
BEGIN:VEVENT
DTSTART;VALUE=DATE:20230801
DTEND;VALUE=DATE:20230802
DTSTAMP:20260421T170653
CREATED:20230730T213719Z
LAST-MODIFIED:20230730T213719Z
UID:1371-1690848000-1690934399@thewrensnestdaycare.com
SUMMARY:Meal Plan
DESCRIPTION:Breakfast:\nSAUSAGE BISCUIT \nPINEAPPLE \nMILK \n\nSnack:\nPEANUT BUTTER (SUB WOW BUTTER) \nWATER \n\nLunch:\nSPAGHETTI W/ MEAT SAUCE \nCORN \nAPPLESAUCE \nBREAD STICKS \nMILK
URL:https://thewrensnestdaycare.com/menu/meal-plan-426/
CATEGORIES:Meal
END:VEVENT
BEGIN:VEVENT
DTSTART;VALUE=DATE:20230731
DTEND;VALUE=DATE:20230801
DTSTAMP:20260421T170653
CREATED:20230709T170415Z
LAST-MODIFIED:20230709T170415Z
UID:1366-1690761600-1690847999@thewrensnestdaycare.com
SUMMARY:Meal Plan
DESCRIPTION:Breakfast:\nHASHBROWN PATTY \nMIXED FRUIT \nBREAD SLICE \nMILK \n\nSnack:\nCHEESE ITS (SUB ANIMAL CRACKERS) \nAPPLE JUICE \n\nLunch:\nBEEF N BEAN BURRITO \nCORN \nPEACHES \nRICE \nMILK
URL:https://thewrensnestdaycare.com/menu/meal-plan-425/
CATEGORIES:Meal
END:VEVENT
BEGIN:VEVENT
DTSTART;VALUE=DATE:20230728
DTEND;VALUE=DATE:20230729
DTSTAMP:20260421T170653
CREATED:20230709T170221Z
LAST-MODIFIED:20230709T170221Z
UID:1364-1690502400-1690588799@thewrensnestdaycare.com
SUMMARY:Meal Plan
DESCRIPTION:Breakfast:\nBISCUITS N GRAVY \nAPPLESAUCE \nMILK \n\nSnack:\nPIZZA STICK (SUB CHEX MIX) \nAPPLE JUICE \n\nLunch:\nSLOPPY JOES ON BUN \nGREEN BEANS \nMIXED FRUIT \nBUN \nMILK
URL:https://thewrensnestdaycare.com/menu/meal-plan-424/
CATEGORIES:Meal
END:VEVENT
BEGIN:VEVENT
DTSTART;VALUE=DATE:20230727
DTEND;VALUE=DATE:20230728
DTSTAMP:20260421T170653
CREATED:20230709T170039Z
LAST-MODIFIED:20230709T170039Z
UID:1362-1690416000-1690502399@thewrensnestdaycare.com
SUMMARY:Meal Plan
DESCRIPTION:Breakfast:\nCINNAMON RAISIN TOAST \nPEACHES \nMILK \n\nSnack:\nBLUEBERRY MUFFIN \nMILK \n\nLunch:\nBBQ CHICKEN STRIPS \nBROCCOLI \nAPRICOTS \nBREAD SLICE \nMILK
URL:https://thewrensnestdaycare.com/menu/meal-plan-423/
CATEGORIES:Meal
END:VEVENT
BEGIN:VEVENT
DTSTART;VALUE=DATE:20230726
DTEND;VALUE=DATE:20230727
DTSTAMP:20260421T170653
CREATED:20230709T165911Z
LAST-MODIFIED:20230709T165911Z
UID:1360-1690329600-1690415999@thewrensnestdaycare.com
SUMMARY:Meal Plan
DESCRIPTION:Breakfast:\nLIFE CEREAL \nBANANA \nMILK \n\nSnack:\nFRENCH TOAST SICKS \nMILK \n\nLunch:\nLASAGNA ROLL UP \nCORN \nWATERMELON \nBREAD STICK \nMILK
URL:https://thewrensnestdaycare.com/menu/meal-plan-422/
CATEGORIES:Meal
END:VEVENT
BEGIN:VEVENT
DTSTART;VALUE=DATE:20230725
DTEND;VALUE=DATE:20230726
DTSTAMP:20260421T170653
CREATED:20230709T165540Z
LAST-MODIFIED:20230709T165540Z
UID:1358-1690243200-1690329599@thewrensnestdaycare.com
SUMMARY:Meal Plan
DESCRIPTION:Breakfast:\nTOASTED ENGLISH MUFFIN W/JELLY \nMANDARIN ORANGES \nMILK \n\nSnack:\nPANCAKE \nSTRAWBERRIES \nWATER \n\nLunch:\nBBQ PORK ON BUN \nGLAZED CARROTS \nPEACHES \nBUN \nMILK
URL:https://thewrensnestdaycare.com/menu/meal-plan-421/
CATEGORIES:Meal
END:VEVENT
BEGIN:VEVENT
DTSTART;VALUE=DATE:20230724
DTEND;VALUE=DATE:20230725
DTSTAMP:20260421T170653
CREATED:20230709T165257Z
LAST-MODIFIED:20230709T165257Z
UID:1356-1690156800-1690243199@thewrensnestdaycare.com
SUMMARY:Meal Plan
DESCRIPTION:Breakfast:\nSCRAMBLED EGGS \nPEARS \nBREAD SLICE \nMILK \n\nSnack:\nWW CRACKERS \nSTRING CHEESE (SUB TURKEY SLICES) \nWATER \n\nLunch:\nMEATLOAF \nSWEET POTATOES \nPINEAPPLE \nROLL \nMILK
URL:https://thewrensnestdaycare.com/menu/meal-plan-420/
CATEGORIES:Meal
END:VEVENT
BEGIN:VEVENT
DTSTART;VALUE=DATE:20230721
DTEND;VALUE=DATE:20230722
DTSTAMP:20260421T170653
CREATED:20230708T214638Z
LAST-MODIFIED:20230708T214638Z
UID:1354-1689897600-1689983999@thewrensnestdaycare.com
SUMMARY:Meal Plan
DESCRIPTION:Breakfast:\nSAUSAGE BISCUIT \nAPPLES \nMILK \n\nSnack:\nCHEEERIOS \nMILK \n\nLunch:\nCHICKEN NUGGETS \nLIMA BEANS \nPEARS \nBREAD SLICE \nMILK
URL:https://thewrensnestdaycare.com/menu/meal-plan-419/
CATEGORIES:Meal
END:VEVENT
BEGIN:VEVENT
DTSTART;VALUE=DATE:20230720
DTEND;VALUE=DATE:20230721
DTSTAMP:20260421T170653
CREATED:20230708T214417Z
LAST-MODIFIED:20230708T214417Z
UID:1352-1689811200-1689897599@thewrensnestdaycare.com
SUMMARY:Meal Plan
DESCRIPTION:Breakfast:\nBLUEBERRY MUFFIN \nAPPLESAUCE \nMILK \n\nSnack:\nGOLDFISH  (SUB CHEX MIX) \nWHITE GRAPE JUICE \n\nLunch:\nBAKED HAM \nPEAS N CARROTS \nMIXED FRUIT \nBREAD SLICE \nMILK
URL:https://thewrensnestdaycare.com/menu/meal-plan-418/
CATEGORIES:Meal
END:VEVENT
BEGIN:VEVENT
DTSTART;VALUE=DATE:20230719
DTEND;VALUE=DATE:20230720
DTSTAMP:20260421T170653
CREATED:20230708T214239Z
LAST-MODIFIED:20230708T214239Z
UID:1350-1689724800-1689811199@thewrensnestdaycare.com
SUMMARY:Meal Plan
DESCRIPTION:Breakfast:\nCHEERIOS \nBANANA \nMILK \n\nSnack:\nCINNAMON GRAHAMS \nMILK \n\nLunch:\nSLOPPY JOES \nGLAZED CARROTS \nCUTIES \nBUN/DORITOS \nMILK
URL:https://thewrensnestdaycare.com/menu/meal-plan-417/
CATEGORIES:Meal
END:VEVENT
BEGIN:VEVENT
DTSTART;VALUE=DATE:20230718
DTEND;VALUE=DATE:20230719
DTSTAMP:20260421T170653
CREATED:20230708T214119Z
LAST-MODIFIED:20230708T214119Z
UID:1348-1689638400-1689724799@thewrensnestdaycare.com
SUMMARY:Meal Plan
DESCRIPTION:Breakfast:\nFRENCH TOAST STICKS \nPINEAPPLES \nMILK \n\nSnack:\nBOLOGNA SANDWICH \nWATER \n\nLunch:\nTURKEY N GRAVY \nGREEN BEANS \nPEACHES \nBREAD SLICE \nMILK
URL:https://thewrensnestdaycare.com/menu/meal-plan-416/
CATEGORIES:Meal
END:VEVENT
END:VCALENDAR