BEGIN:VCALENDAR
VERSION:2.0
PRODID:-//ABC123 The Wrens Nest Daycare - ECPv6.15.20//NONSGML v1.0//EN
CALSCALE:GREGORIAN
METHOD:PUBLISH
X-WR-CALNAME:ABC123 The Wrens Nest Daycare
X-ORIGINAL-URL:https://thewrensnestdaycare.com
X-WR-CALDESC:Events for ABC123 The Wrens Nest Daycare
REFRESH-INTERVAL;VALUE=DURATION:PT1H
X-Robots-Tag:noindex
X-PUBLISHED-TTL:PT1H
BEGIN:VTIMEZONE
TZID:America/Kentucky/Louisville
BEGIN:DAYLIGHT
TZOFFSETFROM:-0500
TZOFFSETTO:-0400
TZNAME:EDT
DTSTART:20220313T070000
END:DAYLIGHT
BEGIN:STANDARD
TZOFFSETFROM:-0400
TZOFFSETTO:-0500
TZNAME:EST
DTSTART:20221106T060000
END:STANDARD
BEGIN:DAYLIGHT
TZOFFSETFROM:-0500
TZOFFSETTO:-0400
TZNAME:EDT
DTSTART:20230312T070000
END:DAYLIGHT
BEGIN:STANDARD
TZOFFSETFROM:-0400
TZOFFSETTO:-0500
TZNAME:EST
DTSTART:20231105T060000
END:STANDARD
BEGIN:DAYLIGHT
TZOFFSETFROM:-0500
TZOFFSETTO:-0400
TZNAME:EDT
DTSTART:20240310T070000
END:DAYLIGHT
BEGIN:STANDARD
TZOFFSETFROM:-0400
TZOFFSETTO:-0500
TZNAME:EST
DTSTART:20241103T060000
END:STANDARD
END:VTIMEZONE
BEGIN:VEVENT
DTSTART;VALUE=DATE:20231229
DTEND;VALUE=DATE:20231230
DTSTAMP:20260419T195901
CREATED:20231127T175912Z
LAST-MODIFIED:20231127T175912Z
UID:1605-1703808000-1703894399@thewrensnestdaycare.com
SUMMARY:Meal Plan
DESCRIPTION:Breakfast:\nCENTER CLOSED \nHAPPY HOLIDAYS \n\nSnack:\nCENTER CLOSED \nHAPPY HOLIDAYS \n\nLunch:\nCENTER CLOSED \nHAPPY HOLIDAYS
URL:https://thewrensnestdaycare.com/menu/meal-plan-531/
CATEGORIES:Meal
END:VEVENT
BEGIN:VEVENT
DTSTART;VALUE=DATE:20231228
DTEND;VALUE=DATE:20231229
DTSTAMP:20260419T195901
CREATED:20231127T180631Z
LAST-MODIFIED:20231127T180631Z
UID:1611-1703721600-1703807999@thewrensnestdaycare.com
SUMMARY:Meal Plan
DESCRIPTION:Breakfast:\nFRENCH TOAST STIX \nPEACHES \nMILK \n\nSnack:\nGRAHAM CRACKERS \nPEANUT BUTTER (SUB WOW BUTTER) \nWATER \n\nLunch:\nCHICKEN NUGGETS \nGREEN BEANS \nCOOKED APPLES \nBREAD SLICE \nMILK
URL:https://thewrensnestdaycare.com/menu/meal-plan-534/
CATEGORIES:Meal
END:VEVENT
BEGIN:VEVENT
DTSTART;VALUE=DATE:20231227
DTEND;VALUE=DATE:20231228
DTSTAMP:20260419T195901
CREATED:20231127T180411Z
LAST-MODIFIED:20231127T180411Z
UID:1609-1703635200-1703721599@thewrensnestdaycare.com
SUMMARY:Meal Plan
DESCRIPTION:Breakfast:\nCHEERIOS \nBANANA \nMILK \n\nSnack:\nPIZZA STIX (SUB TEDDY GRAHAMS) \nAPPLE JUICE \n\nLunch:\nPORK RIB PATTY \nPEAS N CARROTS \nAPPLESAUCE \nBREAD SLICE \nMILK
URL:https://thewrensnestdaycare.com/menu/meal-plan-533/
CATEGORIES:Meal
END:VEVENT
BEGIN:VEVENT
DTSTART;VALUE=DATE:20231226
DTEND;VALUE=DATE:20231227
DTSTAMP:20260419T195901
CREATED:20231127T180109Z
LAST-MODIFIED:20231127T180109Z
UID:1607-1703548800-1703635199@thewrensnestdaycare.com
SUMMARY:Meal Plan
DESCRIPTION:Breakfast:\nHAM COMBO \nMIXED FRUIT \nBREAD SLICE \nMILK \n\nSnack:\nORANGE MUFFIN \nMILK \n\nLunch:\nHOMEMADE CHILI \nCORN \nPINEAPPLES \nGRILLED CHEESE \nMILK
URL:https://thewrensnestdaycare.com/menu/meal-plan-532/
CATEGORIES:Meal
END:VEVENT
BEGIN:VEVENT
DTSTART;VALUE=DATE:20231225
DTEND;VALUE=DATE:20231226
DTSTAMP:20260419T195901
CREATED:20231127T175819Z
LAST-MODIFIED:20231127T175819Z
UID:1603-1703462400-1703548799@thewrensnestdaycare.com
SUMMARY:Meal Plan
DESCRIPTION:Breakfast:\nCENTER CLOSED \nHAPPY HOLIDAYS \n\nSnack:\nCENTER CLOSED \nHAPPY HOLIDAYS \n\nLunch:\nCENTER CLOSED \nHAPPY HOLIDAYS
URL:https://thewrensnestdaycare.com/menu/meal-plan-530/
CATEGORIES:Meal
END:VEVENT
BEGIN:VEVENT
DTSTART;VALUE=DATE:20231222
DTEND;VALUE=DATE:20231223
DTSTAMP:20260419T195901
CREATED:20231127T175729Z
LAST-MODIFIED:20231127T175729Z
UID:1601-1703203200-1703289599@thewrensnestdaycare.com
SUMMARY:Meal Plan
DESCRIPTION:Breakfast:\nCENTER CLOSED \nHAPPY HOLIDAYS \n\nSnack:\nCENTER CLOSED \nHAPPY HOLIDAYS \n\nLunch:\nCENTER CLOSED \nHAPPY HOLIDAYS
URL:https://thewrensnestdaycare.com/menu/meal-plan-529/
CATEGORIES:Meal
END:VEVENT
BEGIN:VEVENT
DTSTART;VALUE=DATE:20231221
DTEND;VALUE=DATE:20231222
DTSTAMP:20260419T195901
CREATED:20231127T171014Z
LAST-MODIFIED:20231127T184953Z
UID:1599-1703116800-1703203199@thewrensnestdaycare.com
SUMMARY:Meal Plan
DESCRIPTION:Breakfast:\nBISCUIT N GRAVY \nPEARS \nMILK \n\nSnack:\nTEDDY GRAHAMS \nMILK \n\nLunch:\nBBQ PORK ON BUN \nBROCCOLI \nMANDARIN ORANGES \nBUN \nMILK
URL:https://thewrensnestdaycare.com/menu/meal-plan-528/
CATEGORIES:Meal
END:VEVENT
BEGIN:VEVENT
DTSTART;VALUE=DATE:20231220
DTEND;VALUE=DATE:20231221
DTSTAMP:20260419T195901
CREATED:20231127T170724Z
LAST-MODIFIED:20231127T170724Z
UID:1597-1703030400-1703116799@thewrensnestdaycare.com
SUMMARY:Meal Plan
DESCRIPTION:Breakfast:\nKIX CEREAL \nBANANA \nMILK \n\nSnack:\nTORTILLA CHIPS \nCHEESE SAUCE (SUB SALSA) \nAPPLE JUICE \n\nLunch:\nCHICKEN PATTY \nLIMA BEANS \nPINEAPPLES \nBREAD SLICE \nMILK
URL:https://thewrensnestdaycare.com/menu/meal-plan-527/
CATEGORIES:Meal
END:VEVENT
BEGIN:VEVENT
DTSTART;VALUE=DATE:20231219
DTEND;VALUE=DATE:20231220
DTSTAMP:20260419T195901
CREATED:20231127T170404Z
LAST-MODIFIED:20231127T170404Z
UID:1595-1702944000-1703030399@thewrensnestdaycare.com
SUMMARY:Meal Plan
DESCRIPTION:Breakfast:\nCINNAMON FLATBREAD \nAPRICOTS \nMILK \n\nSnack:\nFRENCH TOAST STIX \nMILK \n\nLunch:\nBEEF MEATBALLS IN SAUCE \nGREEN BEANS \nPEACHES \nBREAD SLICE \nMILK
URL:https://thewrensnestdaycare.com/menu/meal-plan-526/
CATEGORIES:Meal
END:VEVENT
BEGIN:VEVENT
DTSTART;VALUE=DATE:20231218
DTEND;VALUE=DATE:20231219
DTSTAMP:20260419T195901
CREATED:20231127T165914Z
LAST-MODIFIED:20231127T185228Z
UID:1593-1702857600-1702943999@thewrensnestdaycare.com
SUMMARY:Meal Plan
DESCRIPTION:Breakfast:\nHASHBROWN PATTY \nCOOKED APPLES \nBREAD SLICE \nMILK \n\nSnack:\nPIZZA STIX (SUB SUN CHIPS) \nWHITE GRAPE JUICE \n\nLunch:\nHOT HAM N CHEESE \nBAKED BEANS \nMANDARIN ORANGES \nBUN/DORITOS \nMILK
URL:https://thewrensnestdaycare.com/menu/meal-plan-525/
CATEGORIES:Meal
END:VEVENT
BEGIN:VEVENT
DTSTART;VALUE=DATE:20231215
DTEND;VALUE=DATE:20231216
DTSTAMP:20260419T195901
CREATED:20231127T165454Z
LAST-MODIFIED:20231127T165454Z
UID:1591-1702598400-1702684799@thewrensnestdaycare.com
SUMMARY:Meal Plan
DESCRIPTION:Breakfast:\nHASHBROWN PATTY \nAPPLESAUCE \nBREAD SLICE \nMILK \n\nSnack:\nCHEESE NIPS (SUB GRAHAM CRACKER) \nWHITE GRAPE JUICE \n\nLunch:\nCHICKEN STRIPS \nPEAS \nPEACHES \nBREAD SLICE \nMILK
URL:https://thewrensnestdaycare.com/menu/meal-plan-524/
CATEGORIES:Meal
END:VEVENT
BEGIN:VEVENT
DTSTART;VALUE=DATE:20231214
DTEND;VALUE=DATE:20231215
DTSTAMP:20260419T195901
CREATED:20231127T165229Z
LAST-MODIFIED:20231127T165229Z
UID:1589-1702512000-1702598399@thewrensnestdaycare.com
SUMMARY:Meal Plan
DESCRIPTION:Breakfast:\nBISCUIT N GRAVY \nMIXED FRUIT \nMILK \n\nSnack:\nORANGE MUFFIN \nMILK \n\nLunch:\nTACO SALAD LETT/TOM/CHEESE \nCORN \nMANDARIN ORANGES \nTORTILLA CHIPS \nMILK
URL:https://thewrensnestdaycare.com/menu/meal-plan-523/
CATEGORIES:Meal
END:VEVENT
BEGIN:VEVENT
DTSTART;VALUE=DATE:20231213
DTEND;VALUE=DATE:20231214
DTSTAMP:20260419T195901
CREATED:20231127T165011Z
LAST-MODIFIED:20231127T165011Z
UID:1587-1702425600-1702511999@thewrensnestdaycare.com
SUMMARY:Meal Plan
DESCRIPTION:Breakfast:\nCHEX CEREAL \nBANANA \nMILK \n\nSnack:\nYOGURT \nANIMAL CRACKERS \nAPPLE JUICE \n\nLunch:\nHOMEMADE VEGETABLE BEEF SOUP \nLIMA BEANS \nPEARS \nCORNBREAD \nMILK
URL:https://thewrensnestdaycare.com/menu/meal-plan-522/
CATEGORIES:Meal
END:VEVENT
BEGIN:VEVENT
DTSTART;VALUE=DATE:20231212
DTEND;VALUE=DATE:20231213
DTSTAMP:20260419T195901
CREATED:20231127T164812Z
LAST-MODIFIED:20231127T164812Z
UID:1585-1702339200-1702425599@thewrensnestdaycare.com
SUMMARY:Meal Plan
DESCRIPTION:Breakfast:\nFRENCH TOAST STIX \nPEACHES \nMILK \n\nSnack:\nPRETZELS \nCHEESE CUBES (SUB MILK) \nWATER \n\nLunch:\nPORK RIB PATTY \nMIXED VEGGIES \nAPPLESAUCE \nBREAD SLICE \nMILK
URL:https://thewrensnestdaycare.com/menu/meal-plan-521/
CATEGORIES:Meal
END:VEVENT
BEGIN:VEVENT
DTSTART;VALUE=DATE:20231211
DTEND;VALUE=DATE:20231212
DTSTAMP:20260419T195901
CREATED:20231127T164601Z
LAST-MODIFIED:20231127T164601Z
UID:1583-1702252800-1702339199@thewrensnestdaycare.com
SUMMARY:Meal Plan
DESCRIPTION:Breakfast:\nSAUSAGE BISCUIT \nAPRICOTS \nMILK \n\nSnack:\nPANCAKE \nMILK \n\nLunch:\nCHICKEN NUGGETS’ \nSWEET POTATOES \nMIXED FRUIT \nBREAD SLICE \nMILK
URL:https://thewrensnestdaycare.com/menu/meal-plan-520/
CATEGORIES:Meal
END:VEVENT
BEGIN:VEVENT
DTSTART;VALUE=DATE:20231208
DTEND;VALUE=DATE:20231209
DTSTAMP:20260419T195901
CREATED:20231127T164156Z
LAST-MODIFIED:20231127T164156Z
UID:1581-1701993600-1702079999@thewrensnestdaycare.com
SUMMARY:Meal Plan
DESCRIPTION:Breakfast:\nORANGE MUFFIN \nMANDARIN ORANGES \nMILK \n\nSnack:\nCINNAMON GRAHAMS \nMILK \n\nLunch:\nCHUCK WAGON PATTY \nGREEN BEANS \nAPPLESAUCE \nBREAD SLICE \nMILK
URL:https://thewrensnestdaycare.com/menu/meal-plan-519/
CATEGORIES:Meal
END:VEVENT
BEGIN:VEVENT
DTSTART;VALUE=DATE:20231207
DTEND;VALUE=DATE:20231208
DTSTAMP:20260419T195901
CREATED:20231127T164010Z
LAST-MODIFIED:20231127T164010Z
UID:1579-1701907200-1701993599@thewrensnestdaycare.com
SUMMARY:Meal Plan
DESCRIPTION:Breakfast:\nRAISIN BREAD \nAPPLES \nMILK \n\nSnack:\nSUN CHIPS \nWHITE GRAPE JUICE \n\nLunch:\nCHICKEN STRIPS \nBROCCOLI \nPEACHES \nBREAD SLICE \nMILK
URL:https://thewrensnestdaycare.com/menu/meal-plan-518/
CATEGORIES:Meal
END:VEVENT
BEGIN:VEVENT
DTSTART;VALUE=DATE:20231206
DTEND;VALUE=DATE:20231207
DTSTAMP:20260419T195901
CREATED:20231127T163213Z
LAST-MODIFIED:20231127T163213Z
UID:1577-1701820800-1701907199@thewrensnestdaycare.com
SUMMARY:Meal Plan
DESCRIPTION:Breakfast:\nCHEERIOS \nBANANA \nMILK \n\nSnack:\nFRENCH TOAST STIX \nMILK \n\nLunch:\nTACO SALAD LETT/TOM/CHEESE \nCORN \nAPRICOTS \nTORTILLA CHIPS \nMILK
URL:https://thewrensnestdaycare.com/menu/meal-plan-517/
CATEGORIES:Meal
END:VEVENT
BEGIN:VEVENT
DTSTART;VALUE=DATE:20231205
DTEND;VALUE=DATE:20231206
DTSTAMP:20260419T195901
CREATED:20231127T161912Z
LAST-MODIFIED:20231127T161912Z
UID:1575-1701734400-1701820799@thewrensnestdaycare.com
SUMMARY:Meal Plan
DESCRIPTION:Breakfast:\nSAUSAGE BISCUIT \nPINEAPPLE \nMILK \n\nSnack:\nGOLDFISH (SUB TEDDY GRAHAMS) \nAPPLE JUICE \n\nLunch:\nCHICKEN NUGGETS \nLIMA BEANS \nMIXED FRUIT \nBREAD SLICE \nMILK
URL:https://thewrensnestdaycare.com/menu/meal-plan-516/
CATEGORIES:Meal
END:VEVENT
BEGIN:VEVENT
DTSTART;VALUE=DATE:20231204
DTEND;VALUE=DATE:20231205
DTSTAMP:20260419T195901
CREATED:20231127T160903Z
LAST-MODIFIED:20231127T160903Z
UID:1573-1701648000-1701734399@thewrensnestdaycare.com
SUMMARY:Meal Plan
DESCRIPTION:Breakfast:\nHAM COMBO \nPEARS \nBREAD SLICE \nMILK \n\nSnack:\nBOLOGNA SANDWICH \nMILK \n\nLunch:\nBEEF N BEAN BURRITOS \nPEAS \nCINNAMON APPLES \nRICE \nMILK
URL:https://thewrensnestdaycare.com/menu/meal-plan-515/
CATEGORIES:Meal
END:VEVENT
BEGIN:VEVENT
DTSTART;VALUE=DATE:20231201
DTEND;VALUE=DATE:20231202
DTSTAMP:20260419T195901
CREATED:20231127T160659Z
LAST-MODIFIED:20231127T160659Z
UID:1571-1701388800-1701475199@thewrensnestdaycare.com
SUMMARY:Meal Plan
DESCRIPTION:Breakfast:\nCINNAMON FLATBREAD \nAPPLESAUCE \nMILK \n\nSnack:\nWHEAT THINS (SUB GOLDFISH) \nMILK \n\nLunch:\nGRILLED CHICKEN \nPEAS \nMIXED FRUIT \nBREAD SLICE \nMILK
URL:https://thewrensnestdaycare.com/menu/meal-plan-514/
CATEGORIES:Meal
END:VEVENT
BEGIN:VEVENT
DTSTART;VALUE=DATE:20231130
DTEND;VALUE=DATE:20231201
DTSTAMP:20260419T195901
CREATED:20231030T161821Z
LAST-MODIFIED:20231030T161821Z
UID:1566-1701302400-1701388799@thewrensnestdaycare.com
SUMMARY:Meal Plan
DESCRIPTION:Breakfast:\nHASHBROWN PATTY \nPINEAPPLES \nBREAD SLICE \nMILK \n\nSnack:\nCHEESE NIPS (SUB TEDDY GRAHAMS) \nMILK \n\nLunch:\nHOT DOG/CHICKEN PATTY \nLIMA BEANS \nAPPLES \nBUN/BREAD \nMILK
URL:https://thewrensnestdaycare.com/menu/meal-plan-513/
CATEGORIES:Meal
END:VEVENT
BEGIN:VEVENT
DTSTART;VALUE=DATE:20231129
DTEND;VALUE=DATE:20231130
DTSTAMP:20260419T195901
CREATED:20231030T161600Z
LAST-MODIFIED:20231030T161600Z
UID:1564-1701216000-1701302399@thewrensnestdaycare.com
SUMMARY:Meal Plan
DESCRIPTION:Breakfast:\nLIFE CEREAL \nBANANA \nMILK \n\nSnack:\nGRAHAM CRACKERS \nAPPLE JUICE \n\nLunch:\nBBQ PORK ON BUN \nBAKED BEANS \nPEACHES \nBUN/CHIPS \nMILK
URL:https://thewrensnestdaycare.com/menu/meal-plan-512/
CATEGORIES:Meal
END:VEVENT
BEGIN:VEVENT
DTSTART;VALUE=DATE:20231128
DTEND;VALUE=DATE:20231129
DTSTAMP:20260419T195901
CREATED:20231030T155955Z
LAST-MODIFIED:20231030T155955Z
UID:1562-1701129600-1701215999@thewrensnestdaycare.com
SUMMARY:Meal Plan
DESCRIPTION:Breakfast:\nPANCAKES W SYRUP \nAPRICOTS \nMILK \n\nSnack:\nFRENCH TOAST STIX \nMILK \n\nLunch:\nHOT HAM N CHEESE \nGREEN BEANS \nPEACHES \nBUN \nMILK
URL:https://thewrensnestdaycare.com/menu/meal-plan-511/
CATEGORIES:Meal
END:VEVENT
BEGIN:VEVENT
DTSTART;VALUE=DATE:20231127
DTEND;VALUE=DATE:20231128
DTSTAMP:20260419T195901
CREATED:20231030T155822Z
LAST-MODIFIED:20231030T155822Z
UID:1560-1701043200-1701129599@thewrensnestdaycare.com
SUMMARY:Meal Plan
DESCRIPTION:Breakfast:\nBISCUITS N GRAVY \nPEARS \nMILK \n\nSnack:\nRITZ CRACKERS \nPEANUT BUTTER (SUB WOW BUTTER) \nWATER \n\nLunch:\nBEEF TACO SALAD LETT/TOM/CHEESE \nCORN \nMIXED FRUIT \nTORTILLA CHIPS \nMILK
URL:https://thewrensnestdaycare.com/menu/meal-plan-510/
CATEGORIES:Meal
END:VEVENT
BEGIN:VEVENT
DTSTART;VALUE=DATE:20231124
DTEND;VALUE=DATE:20231125
DTSTAMP:20260419T195901
CREATED:20231030T155502Z
LAST-MODIFIED:20231030T155502Z
UID:1558-1700784000-1700870399@thewrensnestdaycare.com
SUMMARY:Meal Plan
DESCRIPTION:Breakfast:\nCENTER \nCLOSED \n\nSnack:\nCENTER \nCLOSED \n\nLunch:\nCENTER \nCLOSED
URL:https://thewrensnestdaycare.com/menu/meal-plan-509/
CATEGORIES:Meal
END:VEVENT
BEGIN:VEVENT
DTSTART;VALUE=DATE:20231123
DTEND;VALUE=DATE:20231124
DTSTAMP:20260419T195901
CREATED:20231030T155415Z
LAST-MODIFIED:20231030T155415Z
UID:1556-1700697600-1700783999@thewrensnestdaycare.com
SUMMARY:Meal Plan
DESCRIPTION:Breakfast:\nCENTER \nCLOSED \n\nSnack:\nCENTER \nCLOSED \n\nLunch:\nCENTER \nCLOSED
URL:https://thewrensnestdaycare.com/menu/meal-plan-508/
CATEGORIES:Meal
END:VEVENT
BEGIN:VEVENT
DTSTART;VALUE=DATE:20231122
DTEND;VALUE=DATE:20231123
DTSTAMP:20260419T195901
CREATED:20231030T155219Z
LAST-MODIFIED:20231030T155252Z
UID:1554-1700611200-1700697599@thewrensnestdaycare.com
SUMMARY:Meal Plan
DESCRIPTION:Breakfast:\nKIX CEREAL \nBANANA \nMILK \n\nSnack:\nPRETZELS \nCHEESE CUBES (SUB PEANUT BUTTER) \nWATER \n\nLunch:\nCHICKEN NUGGETS \nPEAS \nPEARS \nBREAD SLICE \nMILK
URL:https://thewrensnestdaycare.com/menu/meal-plan-507/
CATEGORIES:Meal
END:VEVENT
BEGIN:VEVENT
DTSTART;VALUE=DATE:20231121
DTEND;VALUE=DATE:20231122
DTSTAMP:20260419T195901
CREATED:20231030T155016Z
LAST-MODIFIED:20231030T155016Z
UID:1552-1700524800-1700611199@thewrensnestdaycare.com
SUMMARY:Meal Plan
DESCRIPTION:Breakfast:\nCINNAMON FLATBREAD \nPINEAPPLES \nMILK \n\nSnack:\nCINNAMON GRAHAMS \nMILK \n\nLunch:\nHOMEMADE VEGETABLE BEEF SOUP \nLIMA BEANS \nAPPLESAUCE \nGRILLED CHEESE \nMILK
URL:https://thewrensnestdaycare.com/menu/meal-plan-506/
CATEGORIES:Meal
END:VEVENT
BEGIN:VEVENT
DTSTART;VALUE=DATE:20231120
DTEND;VALUE=DATE:20231121
DTSTAMP:20260419T195901
CREATED:20231030T154730Z
LAST-MODIFIED:20231030T154730Z
UID:1550-1700438400-1700524799@thewrensnestdaycare.com
SUMMARY:Meal Plan
DESCRIPTION:Breakfast:\nHAM COMBO \nPEACHES \nBREAD SLICE \nMILK \n\nSnack:\nPIZZA STICK (SUB MUFFIN) \nMILK \n\nLunch:\nBEEF POT ROAST \nCARROTS/POTATOES \nAPRICOTS \nROLL \nMILK
URL:https://thewrensnestdaycare.com/menu/meal-plan-505/
CATEGORIES:Meal
END:VEVENT
END:VCALENDAR