BEGIN:VCALENDAR
VERSION:2.0
PRODID:-//ABC123 The Wrens Nest Daycare - ECPv6.15.20//NONSGML v1.0//EN
CALSCALE:GREGORIAN
METHOD:PUBLISH
X-WR-CALNAME:ABC123 The Wrens Nest Daycare
X-ORIGINAL-URL:https://thewrensnestdaycare.com
X-WR-CALDESC:Events for ABC123 The Wrens Nest Daycare
REFRESH-INTERVAL;VALUE=DURATION:PT1H
X-Robots-Tag:noindex
X-PUBLISHED-TTL:PT1H
BEGIN:VTIMEZONE
TZID:America/Kentucky/Louisville
BEGIN:DAYLIGHT
TZOFFSETFROM:-0500
TZOFFSETTO:-0400
TZNAME:EDT
DTSTART:20220313T070000
END:DAYLIGHT
BEGIN:STANDARD
TZOFFSETFROM:-0400
TZOFFSETTO:-0500
TZNAME:EST
DTSTART:20221106T060000
END:STANDARD
BEGIN:DAYLIGHT
TZOFFSETFROM:-0500
TZOFFSETTO:-0400
TZNAME:EDT
DTSTART:20230312T070000
END:DAYLIGHT
BEGIN:STANDARD
TZOFFSETFROM:-0400
TZOFFSETTO:-0500
TZNAME:EST
DTSTART:20231105T060000
END:STANDARD
BEGIN:DAYLIGHT
TZOFFSETFROM:-0500
TZOFFSETTO:-0400
TZNAME:EDT
DTSTART:20240310T070000
END:DAYLIGHT
BEGIN:STANDARD
TZOFFSETFROM:-0400
TZOFFSETTO:-0500
TZNAME:EST
DTSTART:20241103T060000
END:STANDARD
END:VTIMEZONE
BEGIN:VEVENT
DTSTART;VALUE=DATE:20230320
DTEND;VALUE=DATE:20230321
DTSTAMP:20260425T162704
CREATED:20230301T155412Z
LAST-MODIFIED:20230301T155412Z
UID:1155-1679270400-1679356799@thewrensnestdaycare.com
SUMMARY:Meal Plan
DESCRIPTION:Breakfast:\nORANGE MUFFIN \nAPPLESAUCE \nMILK \n\nSnack:\nPIZZA STIX (SUB SUNCHIPS) \nMILK \n\nLunch:\nSPAGHETTI W/MEAT SAUCE \nCORN \nAPRICOTS \nBREAD STIX \nMILK
URL:https://thewrensnestdaycare.com/menu/meal-plan-331/
CATEGORIES:Meal
END:VEVENT
BEGIN:VEVENT
DTSTART;VALUE=DATE:20230317
DTEND;VALUE=DATE:20230318
DTSTAMP:20260425T162704
CREATED:20230301T155156Z
LAST-MODIFIED:20230301T155156Z
UID:1153-1679011200-1679097599@thewrensnestdaycare.com
SUMMARY:Meal Plan
DESCRIPTION:Breakfast:\nWAFFLES W/SYRUP \nMANDARIN ORANGES \nMILK \n\nSnack:\nBOLOGNA SANDWICH \nWATER \n\nLunch:\nBEEF TACO SALAD \nLETT/TOM/CHEESE \nCORN \nPINEAPPLES \nTORTILLA CHIPS \nMILK
URL:https://thewrensnestdaycare.com/menu/meal-plan-330/
CATEGORIES:Meal
END:VEVENT
BEGIN:VEVENT
DTSTART;VALUE=DATE:20230316
DTEND;VALUE=DATE:20230317
DTSTAMP:20260425T162704
CREATED:20230301T154922Z
LAST-MODIFIED:20230301T154922Z
UID:1151-1678924800-1679011199@thewrensnestdaycare.com
SUMMARY:Meal Plan
DESCRIPTION:Breakfast:\nOATMEAL \nMIXED FRUIT \nMILK \n\nSnack:\nWHEAT CRACKERS \nSTRING CHEESE (SUB MILK) \nWATER \n\nLunch:\nMEATBALLS IN SAUCE \nGLAZED CARROTS \nAPRICOTS \nBREAD SLICE \nMILK
URL:https://thewrensnestdaycare.com/menu/meal-plan-329/
CATEGORIES:Meal
END:VEVENT
BEGIN:VEVENT
DTSTART;VALUE=DATE:20230315
DTEND;VALUE=DATE:20230316
DTSTAMP:20260425T162704
CREATED:20230301T154658Z
LAST-MODIFIED:20230301T154658Z
UID:1149-1678838400-1678924799@thewrensnestdaycare.com
SUMMARY:Meal Plan
DESCRIPTION:Breakfast:\nBRAN FLAKES \nBANANA \nMILK \n\nSnack:\nGOLDFISH (SUB GRAHAM CRACKERS) \nMILK \n\nLunch:\nHOT DOG/CHICKEN PATTY \nGREEN BEANS \nPEACHES \nBUN/BREAD \nMILK
URL:https://thewrensnestdaycare.com/menu/meal-plan-328/
CATEGORIES:Meal
END:VEVENT
BEGIN:VEVENT
DTSTART;VALUE=DATE:20230314
DTEND;VALUE=DATE:20230315
DTSTAMP:20260425T162704
CREATED:20230301T154448Z
LAST-MODIFIED:20230301T154448Z
UID:1147-1678752000-1678838399@thewrensnestdaycare.com
SUMMARY:Meal Plan
DESCRIPTION:Breakfast:\nSAUSAGE BISCUIT \nPINEAPPLE \nMILK \n\nSnack:\nCINNAMON GRAHAM CRACKERS \nMILK \n\nLunch:\nCHILI \nPEAS \nPEARS \nGRILLED CHEESE \nMILK
URL:https://thewrensnestdaycare.com/menu/meal-plan-327/
CATEGORIES:Meal
END:VEVENT
BEGIN:VEVENT
DTSTART;VALUE=DATE:20230313
DTEND;VALUE=DATE:20230314
DTSTAMP:20260425T162704
CREATED:20230301T154258Z
LAST-MODIFIED:20230301T154258Z
UID:1145-1678665600-1678751999@thewrensnestdaycare.com
SUMMARY:Meal Plan
DESCRIPTION:Breakfast:\nRAISIN BREAD \nPEACHES \nMILK \n\nSnack:\nWAFFLE \nSTRAWBERRIES \nWATER \n\nLunch:\nCHUCK WAGON \nMIXED VEGETABLES \nAPPLESAUCE \nBREAD SLICE \nMILK
URL:https://thewrensnestdaycare.com/menu/meal-plan-326/
CATEGORIES:Meal
END:VEVENT
BEGIN:VEVENT
DTSTART;VALUE=DATE:20230310
DTEND;VALUE=DATE:20230311
DTSTAMP:20260425T162704
CREATED:20230301T154035Z
LAST-MODIFIED:20230301T154035Z
UID:1143-1678406400-1678492799@thewrensnestdaycare.com
SUMMARY:Meal Plan
DESCRIPTION:Breakfast:\nBLUEBERRY MUFFIN \nAPPLESAUCE \nMILK \n\nSnack:\nPANCAKE W/SYRUP \nWHITE GRAPE JUICE \n\nLunch:\nBEEF N BEAN BURRITO \nCORN \nPEACHES \nRICE \nMILK
URL:https://thewrensnestdaycare.com/menu/meal-plan-325/
CATEGORIES:Meal
END:VEVENT
BEGIN:VEVENT
DTSTART;VALUE=DATE:20230309
DTEND;VALUE=DATE:20230310
DTSTAMP:20260425T162704
CREATED:20230301T143202Z
LAST-MODIFIED:20230301T143202Z
UID:1141-1678320000-1678406399@thewrensnestdaycare.com
SUMMARY:Meal Plan
DESCRIPTION:Breakfast:\nBANANA BREAD \nPINEAPPLE \nMILK \n\nSnack:\nORANGE MUFFIN \nMILK \n\nLunch:\nCHICKEN NUGGETS \nGREEN BEANS \nPEARS \nBREAD SLICE \nMILK
URL:https://thewrensnestdaycare.com/menu/meal-plan-324/
CATEGORIES:Meal
END:VEVENT
BEGIN:VEVENT
DTSTART;VALUE=DATE:20230308
DTEND;VALUE=DATE:20230309
DTSTAMP:20260425T162704
CREATED:20230301T142208Z
LAST-MODIFIED:20230301T142208Z
UID:1139-1678233600-1678319999@thewrensnestdaycare.com
SUMMARY:Meal Plan
DESCRIPTION:Breakfast:\nCHEX CEREAL \nBANANA \nMILK \n\nSnack:\nTEDDY GRAHAMS \nMILK \n\nLunch:\nPORK RIB PATTY \nPEAS N CARROTS \nAPRICOTS \nBREAD SLICE \nMILK
URL:https://thewrensnestdaycare.com/menu/meal-plan-323/
CATEGORIES:Meal
END:VEVENT
BEGIN:VEVENT
DTSTART;VALUE=DATE:20230307
DTEND;VALUE=DATE:20230308
DTSTAMP:20260425T162704
CREATED:20230301T141724Z
LAST-MODIFIED:20230301T141724Z
UID:1137-1678147200-1678233599@thewrensnestdaycare.com
SUMMARY:Meal Plan
DESCRIPTION:Breakfast:\nBISCUIT N GRAVY \nMIXED FRUIT \nMILK \n\nSnack:\nPRETZELS \nCHEESE CUBES (SUB PEANUT BUTTER) \nWATER \n\nLunch:\nLEMON PEPPER CHICKEN \nLIMA BEANS \nMANDARIN ORANGES \nBREAD SLICE \nMILK
URL:https://thewrensnestdaycare.com/menu/meal-plan-322/
CATEGORIES:Meal
END:VEVENT
BEGIN:VEVENT
DTSTART;VALUE=DATE:20230306
DTEND;VALUE=DATE:20230307
DTSTAMP:20260425T162704
CREATED:20230301T141454Z
LAST-MODIFIED:20230301T141454Z
UID:1135-1678060800-1678147199@thewrensnestdaycare.com
SUMMARY:Meal Plan
DESCRIPTION:Breakfast:\nFRENCH TOAST STIX \nAPRICOTS \nMILK \n\nSnack:\nSUN CHIPS (SUB ANIMAL CRACKERS) \nAPPLE JUICE \n\nLunch:\nSPAGHETTI W/MEAT SAUCE \nCORN \nPEARS \nBREAD STICK \nMILK
URL:https://thewrensnestdaycare.com/menu/meal-plan-321/
CATEGORIES:Meal
END:VEVENT
BEGIN:VEVENT
DTSTART;VALUE=DATE:20230303
DTEND;VALUE=DATE:20230304
DTSTAMP:20260425T162704
CREATED:20230301T141153Z
LAST-MODIFIED:20230301T141153Z
UID:1133-1677801600-1677887999@thewrensnestdaycare.com
SUMMARY:Meal Plan
DESCRIPTION:Breakfast:\nCINNAMON FLATBREAD \nPINEAPPLE \nMILK \n\nSnack:\nCHEX MIX \nAPPLE JUICE \n\nLunch:\nCHUCKWAGON \nGREEN BEANS \nAPPLES \nBREAD SLICE \nMILK
URL:https://thewrensnestdaycare.com/menu/meal-plan-320/
CATEGORIES:Meal
END:VEVENT
BEGIN:VEVENT
DTSTART;VALUE=DATE:20230302
DTEND;VALUE=DATE:20230303
DTSTAMP:20260425T162704
CREATED:20230225T205136Z
LAST-MODIFIED:20230225T205136Z
UID:1131-1677715200-1677801599@thewrensnestdaycare.com
SUMMARY:Meal Plan
DESCRIPTION:Breakfast:\nCHERRIOS \nBANANA \nMILK \n\nSnack:\nVANILLA YOGURT \nANIMAL CRACKERS \nMILK \n\nLunch:\nHOT DOGS/ CHK PATTY \nBAKED BEANS \nPEACHES \nBUN/ BREAD \nMILK
URL:https://thewrensnestdaycare.com/menu/meal-plan-319/
CATEGORIES:Meal
END:VEVENT
BEGIN:VEVENT
DTSTART;VALUE=DATE:20230301
DTEND;VALUE=DATE:20230302
DTSTAMP:20260425T162704
CREATED:20230225T204839Z
LAST-MODIFIED:20230225T204839Z
UID:1129-1677628800-1677715199@thewrensnestdaycare.com
SUMMARY:Meal Plan
DESCRIPTION:Breakfast:\nBISCUIT N GRAVY \nMIXED FRUIT \nMILK \n\nSnack:\nGOLD FISH (SUB WHEAT CRACKERS) \nWHITE GRAPE JUICE \n\nLunch:\nMEATLOAF \nPEAS \nAPRICOTS \nROLL \nMILK
URL:https://thewrensnestdaycare.com/menu/meal-plan-318/
CATEGORIES:Meal
END:VEVENT
BEGIN:VEVENT
DTSTART;VALUE=DATE:20230228
DTEND;VALUE=DATE:20230301
DTSTAMP:20260425T162704
CREATED:20230127T193527Z
LAST-MODIFIED:20230127T193527Z
UID:1102-1677542400-1677628799@thewrensnestdaycare.com
SUMMARY:Meal Plan
DESCRIPTION:Breakfast:\nCINNAMON FLATBREAD \nAPRICOTS \nMILK \n\nSnack:\nBOLOGNA SANDWICH \nWATER \n\nLunch:\nITALIAN CHICKEN STRIPS \nBROCCOLI \nAPPLESAUCE \nRICE \nMILK
URL:https://thewrensnestdaycare.com/menu/meal-plan-317/
CATEGORIES:Meal
END:VEVENT
BEGIN:VEVENT
DTSTART;VALUE=DATE:20230227
DTEND;VALUE=DATE:20230228
DTSTAMP:20260425T162704
CREATED:20230127T193041Z
LAST-MODIFIED:20230127T193256Z
UID:1098-1677456000-1677542399@thewrensnestdaycare.com
SUMMARY:Meal Plan
DESCRIPTION:Breakfast:\nBLUEBERRY MUFFIN \nPEARS \nMILK \n\nSnack:\nRITZ CRACKERS \nPEANUT BUTTER (SUB WOW BUTTER) \nWATER \n\nLunch:\nSLOPPY JOES \nGREEN BEANS \nMIXED FRUIT \nBUN \nMILK
URL:https://thewrensnestdaycare.com/menu/meal-plan-316/
CATEGORIES:Meal
END:VEVENT
BEGIN:VEVENT
DTSTART;VALUE=DATE:20230224
DTEND;VALUE=DATE:20230225
DTSTAMP:20260425T162704
CREATED:20230127T192755Z
LAST-MODIFIED:20230127T192831Z
UID:1095-1677196800-1677283199@thewrensnestdaycare.com
SUMMARY:Meal Plan
DESCRIPTION:Breakfast:\nBAGELS W/CREAM CHEESE \nAPRICOTS \nMILK \n\nSnack:\nANIMAL CRACKERS \nYOGURT (SUB MILK) \nWATER \n\nLunch:\nBEEF N BEAN BURRITO \nPEAS \nMANDARIN ORANGES \nRICE \nMILK
URL:https://thewrensnestdaycare.com/menu/meal-plan-315/
CATEGORIES:Meal
END:VEVENT
BEGIN:VEVENT
DTSTART;VALUE=DATE:20230223
DTEND;VALUE=DATE:20230224
DTSTAMP:20260425T162704
CREATED:20230127T192538Z
LAST-MODIFIED:20230127T192538Z
UID:1093-1677110400-1677196799@thewrensnestdaycare.com
SUMMARY:Meal Plan
DESCRIPTION:Breakfast:\nSAUSAGE BISCUIT \nMIXED FRUIT \nMILK \n\nSnack:\nGOLDFISH (SUB TEDDY GRAHAMS) \nAPPLE JUICE \n\nLunch:\nHOMEMADE BEEF VEGETABLE SOUP \nLIME BEANS \nPEACHES \nGRILLED CHEESE \nMILK
URL:https://thewrensnestdaycare.com/menu/meal-plan-314/
CATEGORIES:Meal
END:VEVENT
BEGIN:VEVENT
DTSTART;VALUE=DATE:20230222
DTEND;VALUE=DATE:20230223
DTSTAMP:20260425T162704
CREATED:20230127T192302Z
LAST-MODIFIED:20230127T193148Z
UID:1091-1677024000-1677110399@thewrensnestdaycare.com
SUMMARY:Meal Plan
DESCRIPTION:Breakfast:\nKIX CEREAL \nBANANA \nMILK \n\nSnack:\nPRETZELS \nCHEESE CUBES (SUB PEANUT BUTTER) \nWATER \n\nLunch:\nHOT DOG/PINTO BEANS \nCORN \nPINEAPPLE \nBUN/CORNBREAD \nMILK
URL:https://thewrensnestdaycare.com/menu/meal-plan-313/
CATEGORIES:Meal
END:VEVENT
BEGIN:VEVENT
DTSTART;VALUE=DATE:20230221
DTEND;VALUE=DATE:20230222
DTSTAMP:20260425T162704
CREATED:20230127T191828Z
LAST-MODIFIED:20230127T191828Z
UID:1089-1676937600-1677023999@thewrensnestdaycare.com
SUMMARY:Meal Plan
DESCRIPTION:Breakfast:\nFRENCH TOAST STICKS \nPEARS \nMILK \n\nSnack:\nCINNAMON GRAHAMS \nWHITE GRAPE JUICE \n\nLunch:\nPORK RIB PATTY \nMIXED VEGGIES \nAPPLESAUCE \nBREAD SLICE \nMILK
URL:https://thewrensnestdaycare.com/menu/meal-plan-312/
CATEGORIES:Meal
END:VEVENT
BEGIN:VEVENT
DTSTART;VALUE=DATE:20230220
DTEND;VALUE=DATE:20230221
DTSTAMP:20260425T162704
CREATED:20230127T191342Z
LAST-MODIFIED:20230127T191342Z
UID:1087-1676851200-1676937599@thewrensnestdaycare.com
SUMMARY:Meal Plan
DESCRIPTION:Breakfast:\nENGLISH MUFFIN W/JELLY \nCINNAMON APPLES \nMILK \n\nSnack:\nWAFFLE W/SYRUP \nMILK \n  \n\nLunch:\nBEEF POT ROAST \nPOTATOES/CARROTS \nAPRICOTS \nROLL \nMILK
URL:https://thewrensnestdaycare.com/menu/meal-plan-311/
CATEGORIES:Meal
END:VEVENT
BEGIN:VEVENT
DTSTART;VALUE=DATE:20230217
DTEND;VALUE=DATE:20230218
DTSTAMP:20260425T162704
CREATED:20230127T191152Z
LAST-MODIFIED:20230127T191152Z
UID:1085-1676592000-1676678399@thewrensnestdaycare.com
SUMMARY:Meal Plan
DESCRIPTION:Breakfast:\nHASHBROWN PATTY \nPEARS \nBREAD SLICE \nMILK \n\nSnack:\nBLUEBERRY MUFFIN \nAPPLE JUICE \n  \n\nLunch:\nSLOPPY JOES \nMIXED VEGGIES \nPEARS \nBUN/CHIPS \nMILK
URL:https://thewrensnestdaycare.com/menu/meal-plan-310/
CATEGORIES:Meal
END:VEVENT
BEGIN:VEVENT
DTSTART;VALUE=DATE:20230216
DTEND;VALUE=DATE:20230217
DTSTAMP:20260425T162704
CREATED:20230127T190708Z
LAST-MODIFIED:20230127T190708Z
UID:1083-1676505600-1676591999@thewrensnestdaycare.com
SUMMARY:Meal Plan
DESCRIPTION:Breakfast:\nBISCUIT N  GRAVY \nCINNAMON APPLES \nMILK \n\nSnack:\nFRENCH TOAST STICKS \nMILK \n  \n\nLunch:\nGRILLED ITALIAN CHICKEN \nBROCCOLI \nMANDARIN ORANGES \nRICE \nMILK
URL:https://thewrensnestdaycare.com/menu/meal-plan-309/
CATEGORIES:Meal
END:VEVENT
BEGIN:VEVENT
DTSTART;VALUE=DATE:20230215
DTEND;VALUE=DATE:20230216
DTSTAMP:20260425T162704
CREATED:20230127T190457Z
LAST-MODIFIED:20230127T190457Z
UID:1079-1676419200-1676505599@thewrensnestdaycare.com
SUMMARY:Meal Plan
DESCRIPTION:Breakfast:\nCHEX CEREAL \nBANANA \nMILK \n\nSnack:\nGRAHAM CRACKERS \nMILK \n  \n\nLunch:\nBEEF TACO SALAD \nLETT/TOM/CHEESE \nCORN \nAPPLESAUCE \nTORTILLA CHIPS \nMILK
URL:https://thewrensnestdaycare.com/menu/meal-plan-308/
CATEGORIES:Meal
END:VEVENT
BEGIN:VEVENT
DTSTART;VALUE=DATE:20230214
DTEND;VALUE=DATE:20230215
DTSTAMP:20260425T162704
CREATED:20230127T185927Z
LAST-MODIFIED:20230127T190224Z
UID:1080-1676332800-1676419199@thewrensnestdaycare.com
SUMMARY:Meal Plan
DESCRIPTION:Breakfast:\nCINNAMON FLATBREAD \nPEACHES \nMILK \n\nSnack:\nPRETZELS \nCHEESE CUBES (SUB PEANUT BUTTER) \nWATER \n\nLunch:\nCHICKEN NUGGETS \nLIMA BEANS \nMIXED FRUIT \nBREAD SLICE \nMILK \n 
URL:https://thewrensnestdaycare.com/menu/meal-plan-307/
CATEGORIES:Meal
END:VEVENT
BEGIN:VEVENT
DTSTART;VALUE=DATE:20230213
DTEND;VALUE=DATE:20230214
DTSTAMP:20260425T162704
CREATED:20230127T185146Z
LAST-MODIFIED:20230127T185146Z
UID:1077-1676246400-1676332799@thewrensnestdaycare.com
SUMMARY:Meal Plan
DESCRIPTION:Breakfast:\nOATMEAL \nAPRICOTS \nMILK \n\nSnack:\nTEDDY GRAHAMS \nMILK \n\nLunch:\nHOMEMADE BEEF GOULASH \nPEAS \nPEACHES \nCORNBREAD \nMILK \n 
URL:https://thewrensnestdaycare.com/menu/meal-plan-306/
CATEGORIES:Meal
END:VEVENT
BEGIN:VEVENT
DTSTART;VALUE=DATE:20230210
DTEND;VALUE=DATE:20230211
DTSTAMP:20260425T162704
CREATED:20230127T184956Z
LAST-MODIFIED:20230127T184956Z
UID:1075-1675987200-1676073599@thewrensnestdaycare.com
SUMMARY:Meal Plan
DESCRIPTION:Breakfast:\nORANGE MUFFIN \nAPPLES \nMILK \n\nSnack:\nBANANA BREAD’ \nMILK \n\nLunch:\nBBQ PORK ON BUN \nGLAZED CARROTS \nPEACHES \nBUN \nMILK \n 
URL:https://thewrensnestdaycare.com/menu/meal-plan-305/
CATEGORIES:Meal
END:VEVENT
BEGIN:VEVENT
DTSTART;VALUE=DATE:20230209
DTEND;VALUE=DATE:20230210
DTSTAMP:20260425T162704
CREATED:20230127T184757Z
LAST-MODIFIED:20230127T184757Z
UID:1073-1675900800-1675987199@thewrensnestdaycare.com
SUMMARY:Meal Plan
DESCRIPTION:Breakfast:\nRAISIN TOAST \nMANDARIN ORANGES \nMILK \n\nSnack:\nWHEAT CRACKERS \nSTRING CHEESE (SUB MILK) \nWATER \n\nLunch:\nHOT DOG/CHICKEN PATTY \nCORN \nPINEAPPLES \nBUN/BREAD \nMILK \n 
URL:https://thewrensnestdaycare.com/menu/meal-plan-304/
CATEGORIES:Meal
END:VEVENT
BEGIN:VEVENT
DTSTART;VALUE=DATE:20230208
DTEND;VALUE=DATE:20230209
DTSTAMP:20260425T162704
CREATED:20230127T184500Z
LAST-MODIFIED:20230127T184500Z
UID:1071-1675814400-1675900799@thewrensnestdaycare.com
SUMMARY:Meal Plan
DESCRIPTION:Breakfast:\nCHEERIOS \nBANANA \nMILK \n\nSnack:\nTORTILLA CHIPS \nCHEESE SAUCE (SUB SALSA) \nAPPLE JUICE \n\nLunch:\nHOMEMADE MEATLOAF \nGREEN BEANS \nSWEET POTATOES \nROLL \nMILK \n 
URL:https://thewrensnestdaycare.com/menu/meal-plan-303/
CATEGORIES:Meal
END:VEVENT
BEGIN:VEVENT
DTSTART;VALUE=DATE:20230207
DTEND;VALUE=DATE:20230208
DTSTAMP:20260425T162704
CREATED:20230127T184002Z
LAST-MODIFIED:20230127T184146Z
UID:1068-1675728000-1675814399@thewrensnestdaycare.com
SUMMARY:Meal Plan
DESCRIPTION:Breakfast:\nSAUSAGE BISCUIT \nPINEAPPLES \nMILK \n\nSnack:\nCHEX MIX \nMILK \n\nLunch:\nCHICKEN NUGGETS \nMIXED VEGGIES \nPEARS \nBREAD SLICE \nMILK \n 
URL:https://thewrensnestdaycare.com/menu/meal-plan-302/
CATEGORIES:Meal
END:VEVENT
END:VCALENDAR