BEGIN:VCALENDAR
VERSION:2.0
PRODID:-//ABC123 The Wrens Nest Daycare - ECPv6.15.20//NONSGML v1.0//EN
CALSCALE:GREGORIAN
METHOD:PUBLISH
X-WR-CALNAME:ABC123 The Wrens Nest Daycare
X-ORIGINAL-URL:https://thewrensnestdaycare.com
X-WR-CALDESC:Events for ABC123 The Wrens Nest Daycare
REFRESH-INTERVAL;VALUE=DURATION:PT1H
X-Robots-Tag:noindex
X-PUBLISHED-TTL:PT1H
BEGIN:VTIMEZONE
TZID:America/Kentucky/Louisville
BEGIN:DAYLIGHT
TZOFFSETFROM:-0500
TZOFFSETTO:-0400
TZNAME:EDT
DTSTART:20220313T070000
END:DAYLIGHT
BEGIN:STANDARD
TZOFFSETFROM:-0400
TZOFFSETTO:-0500
TZNAME:EST
DTSTART:20221106T060000
END:STANDARD
BEGIN:DAYLIGHT
TZOFFSETFROM:-0500
TZOFFSETTO:-0400
TZNAME:EDT
DTSTART:20230312T070000
END:DAYLIGHT
BEGIN:STANDARD
TZOFFSETFROM:-0400
TZOFFSETTO:-0500
TZNAME:EST
DTSTART:20231105T060000
END:STANDARD
BEGIN:DAYLIGHT
TZOFFSETFROM:-0500
TZOFFSETTO:-0400
TZNAME:EDT
DTSTART:20240310T070000
END:DAYLIGHT
BEGIN:STANDARD
TZOFFSETFROM:-0400
TZOFFSETTO:-0500
TZNAME:EST
DTSTART:20241103T060000
END:STANDARD
END:VTIMEZONE
BEGIN:VEVENT
DTSTART;VALUE=DATE:20230516
DTEND;VALUE=DATE:20230517
DTSTAMP:20260425T112625
CREATED:20230424T225943Z
LAST-MODIFIED:20230424T225943Z
UID:1244-1684195200-1684281599@thewrensnestdaycare.com
SUMMARY:Meal Plan
DESCRIPTION:Breakfast:\nCINNAMON FLATBREAD \nMIXED FRUIT \nMILK \n\nSnack:\nBANANA BREAD \nJUICE \n\nLunch:\nPORK RIB PATTY \nLIMA BEANS \nAPPLESAUCE \nBREAD SLICE \nMILK
URL:https://thewrensnestdaycare.com/menu/meal-plan-372/
CATEGORIES:Meal
END:VEVENT
BEGIN:VEVENT
DTSTART;VALUE=DATE:20230515
DTEND;VALUE=DATE:20230516
DTSTAMP:20260425T112625
CREATED:20230424T225706Z
LAST-MODIFIED:20230424T225706Z
UID:1242-1684108800-1684195199@thewrensnestdaycare.com
SUMMARY:Meal Plan
DESCRIPTION:Breakfast:\nWAFFLE W SYRUP \nPEARS \nMILK \n\nSnack:\nGOLDFISH (SUB TEDDY GRAHAMS) \nMILK \n\nLunch:\nCHICKEN PATTY \nPEAS \nPINEAPPLES \nBREAD SLICE \nMILK
URL:https://thewrensnestdaycare.com/menu/meal-plan-371/
CATEGORIES:Meal
END:VEVENT
BEGIN:VEVENT
DTSTART;VALUE=DATE:20230512
DTEND;VALUE=DATE:20230513
DTSTAMP:20260425T112625
CREATED:20230424T225509Z
LAST-MODIFIED:20230424T225509Z
UID:1240-1683849600-1683935999@thewrensnestdaycare.com
SUMMARY:Meal Plan
DESCRIPTION:Breakfast:\nPANCAKE W SYRUP \nPEACHES \nMILK \n\nSnack:\nCHEX MIX \nAPPLE JUICE \n\nLunch:\nCHUCKWAGON \nLIMA BEANS \nMIXED FRUIT \nBREAD SLICE \nMILK
URL:https://thewrensnestdaycare.com/menu/meal-plan-370/
CATEGORIES:Meal
END:VEVENT
BEGIN:VEVENT
DTSTART;VALUE=DATE:20230511
DTEND;VALUE=DATE:20230512
DTSTAMP:20260425T112625
CREATED:20230424T225337Z
LAST-MODIFIED:20230424T225337Z
UID:1238-1683763200-1683849599@thewrensnestdaycare.com
SUMMARY:Meal Plan
DESCRIPTION:Breakfast:\nHASHBROWN PATTY \nCOOKED APPLES \nBREAD SLICE \nMILK \n\nSnack:\nBANANA MUFFIN \nMILK \n\nLunch:\nHAM N TURKEY SUBS \nPEAS N CARROTS \nMANDARIN ORANGES \nBUN/CHIPS \nMILK
URL:https://thewrensnestdaycare.com/menu/meal-plan-369/
CATEGORIES:Meal
END:VEVENT
BEGIN:VEVENT
DTSTART;VALUE=DATE:20230510
DTEND;VALUE=DATE:20230511
DTSTAMP:20260425T112625
CREATED:20230424T225122Z
LAST-MODIFIED:20230424T225122Z
UID:1236-1683676800-1683763199@thewrensnestdaycare.com
SUMMARY:Meal Plan
DESCRIPTION:Breakfast:\nCHEERIOS \nBANANA \nMILK \n\nSnack:\nHONEY GRAHAMS \nPEANUT BUTTER (SUB WOW BUTTER) \nWATER \n\nLunch:\nLEMON PEPPER CHICKEN \nBROCCOLI \nPEARS \nBREAD SLICE \nMILK
URL:https://thewrensnestdaycare.com/menu/meal-plan-368/
CATEGORIES:Meal
END:VEVENT
BEGIN:VEVENT
DTSTART;VALUE=DATE:20230509
DTEND;VALUE=DATE:20230510
DTSTAMP:20260425T112625
CREATED:20230424T224931Z
LAST-MODIFIED:20230424T224931Z
UID:1234-1683590400-1683676799@thewrensnestdaycare.com
SUMMARY:Meal Plan
DESCRIPTION:Breakfast:\nFRENCH TOAST STICKS \nAPPLESAUCE \nMILK \n\nSnack:\nRITZ CRACKERS \nCHEESE CUBES (SUB JUICE) \nWATER \n\nLunch:\nMEATLOAF \nSWEET POTATOES \nPINEAPPLE \nROLL \nMILK
URL:https://thewrensnestdaycare.com/menu/meal-plan-367/
CATEGORIES:Meal
END:VEVENT
BEGIN:VEVENT
DTSTART;VALUE=DATE:20230508
DTEND;VALUE=DATE:20230509
DTSTAMP:20260425T112625
CREATED:20230424T224727Z
LAST-MODIFIED:20230424T224727Z
UID:1232-1683504000-1683590399@thewrensnestdaycare.com
SUMMARY:Meal Plan
DESCRIPTION:Breakfast:\nSCRAMBLED EGGS \nPEARS \nBREAD SLICE \nMILK \n\nSnack:\nBOLOGNA SANDWICH \nWATER \n\nLunch:\nBEEF N BEAN BURRITO \nCORN \nAPRICOTS \nRICE \nMILK
URL:https://thewrensnestdaycare.com/menu/meal-plan-366/
CATEGORIES:Meal
END:VEVENT
BEGIN:VEVENT
DTSTART;VALUE=DATE:20230505
DTEND;VALUE=DATE:20230506
DTSTAMP:20260425T112625
CREATED:20230424T224554Z
LAST-MODIFIED:20230424T224554Z
UID:1229-1683244800-1683331199@thewrensnestdaycare.com
SUMMARY:Meal Plan
DESCRIPTION:Breakfast:\nBLUEBERRY MUFFIN \nMANDARIN ORANGES \nMILK \n\nSnack:\nGOLDFISH (SUB TEDDY GRAHAMS) \nWHITE GRAPE JUICE \n\nLunch:\nHOT DOG/CHICKEN PATTY \nPEAS \nPEARS \nBUN/BREAD \nMILK
URL:https://thewrensnestdaycare.com/menu/meal-plan-365/
CATEGORIES:Meal
END:VEVENT
BEGIN:VEVENT
DTSTART;VALUE=DATE:20230504
DTEND;VALUE=DATE:20230505
DTSTAMP:20260425T112625
CREATED:20230424T224349Z
LAST-MODIFIED:20230424T224349Z
UID:1227-1683158400-1683244799@thewrensnestdaycare.com
SUMMARY:Meal Plan
DESCRIPTION:Breakfast:\nHAM COMBO \nAPRICOTS \nBREAD SLICE \nMILK \n\nSnack:\nPIZZA STIX (SUB MUFFIN) \nMILK \n\nLunch:\nCHICKEN NUGGETS \nGREEN BEANS \nMIXED FRUIT \nBREAD SLICE \nMILK
URL:https://thewrensnestdaycare.com/menu/meal-plan-364/
CATEGORIES:Meal
END:VEVENT
BEGIN:VEVENT
DTSTART;VALUE=DATE:20230503
DTEND;VALUE=DATE:20230504
DTSTAMP:20260425T112625
CREATED:20230424T224147Z
LAST-MODIFIED:20230424T224147Z
UID:1225-1683072000-1683158399@thewrensnestdaycare.com
SUMMARY:Meal Plan
DESCRIPTION:Breakfast:\nLIFE CEREAL \nBANANA \nMILK \n\nSnack:\nCINNAMON GRAHAMS \nMILK \n\nLunch:\nSPAGHETTI W MEAT SAUCE \nCORN \nPINEAPPLES \nBREAD STICK \nMILK
URL:https://thewrensnestdaycare.com/menu/meal-plan-363/
CATEGORIES:Meal
END:VEVENT
BEGIN:VEVENT
DTSTART;VALUE=DATE:20230502
DTEND;VALUE=DATE:20230503
DTSTAMP:20260425T112625
CREATED:20230424T224006Z
LAST-MODIFIED:20230424T224006Z
UID:1223-1682985600-1683071999@thewrensnestdaycare.com
SUMMARY:Meal Plan
DESCRIPTION:Breakfast:\nPANCAKE W SYRUP \nPEACHES \nMILK \n\nSnack:\nPB&J JAMWICH (SUB WOW BUTTER N JELLY) \nAPPLE JUICE \n\nLunch:\nCHUCKWAGON \nPEAS \nSLICED APPLES \nBREAD SLICE \nMILK
URL:https://thewrensnestdaycare.com/menu/meal-plan-362/
CATEGORIES:Meal
END:VEVENT
BEGIN:VEVENT
DTSTART;VALUE=DATE:20230501
DTEND;VALUE=DATE:20230502
DTSTAMP:20260425T112625
CREATED:20230424T223739Z
LAST-MODIFIED:20230424T223739Z
UID:1221-1682899200-1682985599@thewrensnestdaycare.com
SUMMARY:Meal Plan
DESCRIPTION:Breakfast:\nHASHBROWN PATTY \nPEARS \nBREAD SLICE \nMILK \n\nSnack:\nORANGE MUFFIN \nMILK \n\nLunch:\nHAM N TURKEY SUBS \nBAKED BEANS \nAPRICOTS \nBUN/CHIPS \nMILK
URL:https://thewrensnestdaycare.com/menu/meal-plan-361/
CATEGORIES:Meal
END:VEVENT
BEGIN:VEVENT
DTSTART;VALUE=DATE:20230428
DTEND;VALUE=DATE:20230429
DTSTAMP:20260425T112625
CREATED:20230329T181230Z
LAST-MODIFIED:20230329T181230Z
UID:1216-1682640000-1682726399@thewrensnestdaycare.com
SUMMARY:Meal Plan
DESCRIPTION:Breakfast:\nORANGE MUFFIN \nAPRICOTS \nMILK \n\nSnack:\nGRAHAM CRACKERS \nMILK \n\nLunch:\nBEEF N BEAN BURRITOS \nMIXED VEGGIES \nMANDARIN ORANGES \nRICE \nMILK
URL:https://thewrensnestdaycare.com/menu/meal-plan-360/
CATEGORIES:Meal
END:VEVENT
BEGIN:VEVENT
DTSTART;VALUE=DATE:20230427
DTEND;VALUE=DATE:20230428
DTSTAMP:20260425T112625
CREATED:20230329T180739Z
LAST-MODIFIED:20230329T180739Z
UID:1214-1682553600-1682639999@thewrensnestdaycare.com
SUMMARY:Meal Plan
DESCRIPTION:Breakfast:\nWAFFLE W/SYRUP \nPEARS \nMILK \n\nSnack:\nPRETZELS \nCHEESE CUBES (SUB PNUT BUTTER) \nWATER \n\nLunch:\nBAKED HAM \nGREEN BEANS \nSWEET POTATOES \nROLL \nMILK
URL:https://thewrensnestdaycare.com/menu/meal-plan-359/
CATEGORIES:Meal
END:VEVENT
BEGIN:VEVENT
DTSTART;VALUE=DATE:20230426
DTEND;VALUE=DATE:20230427
DTSTAMP:20260425T112625
CREATED:20230329T180513Z
LAST-MODIFIED:20230329T180513Z
UID:1212-1682467200-1682553599@thewrensnestdaycare.com
SUMMARY:Meal Plan
DESCRIPTION:Breakfast:\nKIX CEREAL \nBANANA \nMILK \n\nSnack:\nORANGE MUFFIN \nMILK \n\nLunch:\nBEEF TACO SALAD \nCORN \nMIXED FRUIT \nTORTILLA CHIPS \nMILK
URL:https://thewrensnestdaycare.com/menu/meal-plan-358/
CATEGORIES:Meal
END:VEVENT
BEGIN:VEVENT
DTSTART;VALUE=DATE:20230425
DTEND;VALUE=DATE:20230426
DTSTAMP:20260425T112625
CREATED:20230329T180315Z
LAST-MODIFIED:20230329T180315Z
UID:1210-1682380800-1682467199@thewrensnestdaycare.com
SUMMARY:Meal Plan
DESCRIPTION:Breakfast:\nCINNAMON FLATBREAD \nPINEAPPLE \nMILK \n\nSnack:\nCHEESE NIPS (SUB TEDDY GRAHAMS) \nWHITE GRAPE JUICE \n\nLunch:\nCHICKEN NUGGETS \nPEAS \nAPPLESAUCE \nBREAD SLICE \nMILK
URL:https://thewrensnestdaycare.com/menu/meal-plan-357/
CATEGORIES:Meal
END:VEVENT
BEGIN:VEVENT
DTSTART;VALUE=DATE:20230424
DTEND;VALUE=DATE:20230425
DTSTAMP:20260425T112625
CREATED:20230329T180019Z
LAST-MODIFIED:20230329T180019Z
UID:1208-1682294400-1682380799@thewrensnestdaycare.com
SUMMARY:Meal Plan
DESCRIPTION:Breakfast:\nSCRAMBLED EGGS \nPEACHES \nBREAD SLICE \nMILK \n\nSnack:\nPANCAKES \nMILK \n\nLunch:\nITALIAN CHICKEN STRIPS \nLIMA BEANS \nMIXED FRUIT \nBREAD SLICE \nMILK
URL:https://thewrensnestdaycare.com/menu/meal-plan-356/
CATEGORIES:Meal
END:VEVENT
BEGIN:VEVENT
DTSTART;VALUE=DATE:20230421
DTEND;VALUE=DATE:20230422
DTSTAMP:20260425T112625
CREATED:20230329T175826Z
LAST-MODIFIED:20230329T175826Z
UID:1206-1682035200-1682121599@thewrensnestdaycare.com
SUMMARY:Meal Plan
DESCRIPTION:Breakfast:\nHAM COMBO (SUB MUFFIN) \nMIXED FRUIT \nBREAD SLICE \nMILK \n\nSnack:\nBOLOGNA SANDWICH \nWATER \n\nLunch:\nHOT DOG/CHICKEN PATTY \nPINTO BEANS \nMANDARIN ORANGES \nBUN/BREAD \nMILK
URL:https://thewrensnestdaycare.com/menu/meal-plan-355/
CATEGORIES:Meal
END:VEVENT
BEGIN:VEVENT
DTSTART;VALUE=DATE:20230420
DTEND;VALUE=DATE:20230421
DTSTAMP:20260425T112625
CREATED:20230329T175613Z
LAST-MODIFIED:20230329T175613Z
UID:1204-1681948800-1682035199@thewrensnestdaycare.com
SUMMARY:Meal Plan
DESCRIPTION:Breakfast:\nPANCAKE W/SYRUP \nPEARS \nMILK \n\nSnack:\nTORTILLA CHIPS \nCHEESE SAUCE (SUB SALSA) \nAPPLE JUICE \n\nLunch:\nBBQ PORK ON BUN \nLIMA BEANS \nCINNAMON APPLES \nBUN \nMILK
URL:https://thewrensnestdaycare.com/menu/meal-plan-354/
CATEGORIES:Meal
END:VEVENT
BEGIN:VEVENT
DTSTART;VALUE=DATE:20230419
DTEND;VALUE=DATE:20230420
DTSTAMP:20260425T112625
CREATED:20230329T175325Z
LAST-MODIFIED:20230329T175325Z
UID:1202-1681862400-1681948799@thewrensnestdaycare.com
SUMMARY:Meal Plan
DESCRIPTION:Breakfast:\nRICE KRISPIES \nBANANA \nMILK \n\nSnack:\nKIX CEREAL \nMILK \n\nLunch:\nCHILI \nPEAS \nPINEAPPLES \nGRILLED CHEESE \nMILK
URL:https://thewrensnestdaycare.com/menu/meal-plan-353/
CATEGORIES:Meal
END:VEVENT
BEGIN:VEVENT
DTSTART;VALUE=DATE:20230418
DTEND;VALUE=DATE:20230419
DTSTAMP:20260425T112625
CREATED:20230329T175038Z
LAST-MODIFIED:20230329T175038Z
UID:1200-1681776000-1681862399@thewrensnestdaycare.com
SUMMARY:Meal Plan
DESCRIPTION:Breakfast:\nSAUSAGE BISCUIT \nAPRICOTS \nMILK \n\nSnack:\nPIZZA STICKS (SUB GRAHAM CRACKERS) \nMILK \n\nLunch:\nCHUCKWAGON PATTY \nMIXED VEGGIES \nAPPLESAUCE \nBREAD SLICE \nMILK
URL:https://thewrensnestdaycare.com/menu/meal-plan-352/
CATEGORIES:Meal
END:VEVENT
BEGIN:VEVENT
DTSTART;VALUE=DATE:20230417
DTEND;VALUE=DATE:20230418
DTSTAMP:20260425T112625
CREATED:20230329T174814Z
LAST-MODIFIED:20230329T174814Z
UID:1198-1681689600-1681775999@thewrensnestdaycare.com
SUMMARY:Meal Plan
DESCRIPTION:Breakfast:\nCINNAMON FLATBREAD \nMANDARIN ORANGES \nMILK \n\nSnack:\nYOGURT (SUB MILK) \nANIMAL CRACKERS \nWATER \n\nLunch:\nCHEF SALAD W/ HAM/TURKEY/CHEESE \nGREEN BEANS \nPEACHES \nRITZ CRACKERS \nMILK
URL:https://thewrensnestdaycare.com/menu/meal-plan-351/
CATEGORIES:Meal
END:VEVENT
BEGIN:VEVENT
DTSTART;VALUE=DATE:20230414
DTEND;VALUE=DATE:20230415
DTSTAMP:20260425T112625
CREATED:20230329T174430Z
LAST-MODIFIED:20230329T174534Z
UID:1196-1681430400-1681516799@thewrensnestdaycare.com
SUMMARY:Meal Plan
DESCRIPTION:Breakfast:\nOATMEAL \nCINNAMON APPLES \nMILK \n\nSnack:\nGOLDFISH (SUB TEDDY GRAHAMS) \nWHITE GRAPE JUICE \n\nLunch:\nBBQ PORK RIB PATTY \nBAKED BEANS \nPEARS \nBREAD SLICE \nMILK
URL:https://thewrensnestdaycare.com/menu/meal-plan-350/
CATEGORIES:Meal
END:VEVENT
BEGIN:VEVENT
DTSTART;VALUE=DATE:20230413
DTEND;VALUE=DATE:20230414
DTSTAMP:20260425T112625
CREATED:20230329T174202Z
LAST-MODIFIED:20230329T174202Z
UID:1194-1681344000-1681430399@thewrensnestdaycare.com
SUMMARY:Meal Plan
DESCRIPTION:Breakfast:\nFRENCH TOAST STICKS \nMIXED FRUIT \nMILK \n\nSnack:\nWAFFLES \nMILK \n\nLunch:\nSLOPPY JOES \nCORN \nPEARS \nBUN \nMILK
URL:https://thewrensnestdaycare.com/menu/meal-plan-349/
CATEGORIES:Meal
END:VEVENT
BEGIN:VEVENT
DTSTART;VALUE=DATE:20230412
DTEND;VALUE=DATE:20230413
DTSTAMP:20260425T112625
CREATED:20230329T173912Z
LAST-MODIFIED:20230329T173912Z
UID:1192-1681257600-1681343999@thewrensnestdaycare.com
SUMMARY:Meal Plan
DESCRIPTION:Breakfast:\nCHEX CEREAL \nBANANA \nMILK \n\nSnack:\nCINNAMON GRAHAMS \nMILK \n\nLunch:\nBEEF N BEAN BURRITOS \nPEAS \nAPRICOTS \nRICE \nMILK
URL:https://thewrensnestdaycare.com/menu/meal-plan-348/
CATEGORIES:Meal
END:VEVENT
BEGIN:VEVENT
DTSTART;VALUE=DATE:20230411
DTEND;VALUE=DATE:20230412
DTSTAMP:20260425T112625
CREATED:20230329T173528Z
LAST-MODIFIED:20230329T173528Z
UID:1190-1681171200-1681257599@thewrensnestdaycare.com
SUMMARY:Meal Plan
DESCRIPTION:Breakfast:\nBLUEBERRY MUFFIN \nPEACHES \nMILK \n\nSnack:\nPANCAKE \nAPPLE JUICE \n\nLunch:\nCHICKEN NUGGETS \nGREEN BEANS \nMANDARIN ORANGES \nBREAD SLICE \nMILK
URL:https://thewrensnestdaycare.com/menu/meal-plan-347/
CATEGORIES:Meal
END:VEVENT
BEGIN:VEVENT
DTSTART;VALUE=DATE:20230410
DTEND;VALUE=DATE:20230411
DTSTAMP:20260425T112625
CREATED:20230329T173245Z
LAST-MODIFIED:20230329T173245Z
UID:1188-1681084800-1681171199@thewrensnestdaycare.com
SUMMARY:Meal Plan
DESCRIPTION:Breakfast:\nENGLISH MUFFIN W/EGGS \nAPPLESAUCE \nMILK \n\nSnack:\nPRETZELS \nSTRING CHEESE (SUB PNUT BUTTER) \nWATER \n\nLunch:\nSALISBURY STEAK IN GRAVY \nCARROTS \nAPRICOTS \nBREAD SLICE \nMILK
URL:https://thewrensnestdaycare.com/menu/meal-plan-346/
CATEGORIES:Meal
END:VEVENT
BEGIN:VEVENT
DTSTART;VALUE=DATE:20230407
DTEND;VALUE=DATE:20230408
DTSTAMP:20260425T112625
CREATED:20230329T172625Z
LAST-MODIFIED:20230329T172625Z
UID:1186-1680825600-1680911999@thewrensnestdaycare.com
SUMMARY:Meal Plan
DESCRIPTION:Breakfast:\nPANCAKE W/SYRUP \nAPRICOTS \nMILK \n\nSnack:\nCHEX MIX \nMILK \n\nLunch:\nCHICKEN PATTY \nGREEN BEANS \nMANDARIN ORANGES \nBREAD SLICE \nMILK
URL:https://thewrensnestdaycare.com/menu/meal-plan-345/
CATEGORIES:Meal
END:VEVENT
BEGIN:VEVENT
DTSTART;VALUE=DATE:20230406
DTEND;VALUE=DATE:20230407
DTSTAMP:20260425T112625
CREATED:20230329T172349Z
LAST-MODIFIED:20230329T172349Z
UID:1184-1680739200-1680825599@thewrensnestdaycare.com
SUMMARY:Meal Plan
DESCRIPTION:Breakfast:\nHAM COMBO (SUB BISCUIT W JELLY) \nPEACHES \nBREAD SLICE \nMILK \n\nSnack:\nGRAHAM CRACKERS \nAPPLE JUICE \n\nLunch:\nHOT DOG/RIB PATTY \nBAKED BEANS \nAPPLESAUCE \nBUN/BREAD SLICE \nMILK
URL:https://thewrensnestdaycare.com/menu/meal-plan-344/
CATEGORIES:Meal
END:VEVENT
BEGIN:VEVENT
DTSTART;VALUE=DATE:20230405
DTEND;VALUE=DATE:20230406
DTSTAMP:20260425T112625
CREATED:20230329T172101Z
LAST-MODIFIED:20230329T172101Z
UID:1182-1680652800-1680739199@thewrensnestdaycare.com
SUMMARY:Meal Plan
DESCRIPTION:Breakfast:\nCHEERIOS \nBANANA \nMILK \n\nSnack:\nTURKEY SANDWICH \nWATER \n\nLunch:\nMEATBALLS IN SAUCE \nPEAS \nMIXED FRUIT \nBREAD SLICE \nMILK
URL:https://thewrensnestdaycare.com/menu/meal-plan-343/
CATEGORIES:Meal
END:VEVENT
END:VCALENDAR