BEGIN:VCALENDAR
VERSION:2.0
PRODID:-//ABC123 The Wrens Nest Daycare - ECPv6.15.20//NONSGML v1.0//EN
CALSCALE:GREGORIAN
METHOD:PUBLISH
X-WR-CALNAME:ABC123 The Wrens Nest Daycare
X-ORIGINAL-URL:https://thewrensnestdaycare.com
X-WR-CALDESC:Events for ABC123 The Wrens Nest Daycare
REFRESH-INTERVAL;VALUE=DURATION:PT1H
X-Robots-Tag:noindex
X-PUBLISHED-TTL:PT1H
BEGIN:VTIMEZONE
TZID:America/Kentucky/Louisville
BEGIN:DAYLIGHT
TZOFFSETFROM:-0500
TZOFFSETTO:-0400
TZNAME:EDT
DTSTART:20220313T070000
END:DAYLIGHT
BEGIN:STANDARD
TZOFFSETFROM:-0400
TZOFFSETTO:-0500
TZNAME:EST
DTSTART:20221106T060000
END:STANDARD
BEGIN:DAYLIGHT
TZOFFSETFROM:-0500
TZOFFSETTO:-0400
TZNAME:EDT
DTSTART:20230312T070000
END:DAYLIGHT
BEGIN:STANDARD
TZOFFSETFROM:-0400
TZOFFSETTO:-0500
TZNAME:EST
DTSTART:20231105T060000
END:STANDARD
BEGIN:DAYLIGHT
TZOFFSETFROM:-0500
TZOFFSETTO:-0400
TZNAME:EDT
DTSTART:20240310T070000
END:DAYLIGHT
BEGIN:STANDARD
TZOFFSETFROM:-0400
TZOFFSETTO:-0500
TZNAME:EST
DTSTART:20241103T060000
END:STANDARD
END:VTIMEZONE
BEGIN:VEVENT
DTSTART;VALUE=DATE:20231102
DTEND;VALUE=DATE:20231103
DTSTAMP:20260420T033951
CREATED:20231030T150730Z
LAST-MODIFIED:20231030T151048Z
UID:1523-1698883200-1698969599@thewrensnestdaycare.com
SUMMARY:Meal Plan
DESCRIPTION:Breakfast:\nBISCUITS N GRAVY \nAPPLES \nMILK \n\nSnack:\nPIZZA STICKS (SUB SUN CHIPS) \nWHITE GRAPE JUICE \n\nLunch:\nBEEF N BEAN BURRITO \nGREEN BEANS \nAPRICOTS \nRICE \nMILK
URL:https://thewrensnestdaycare.com/menu/meal-plan-493/
CATEGORIES:Meal
END:VEVENT
BEGIN:VEVENT
DTSTART;VALUE=DATE:20231101
DTEND;VALUE=DATE:20231102
DTSTAMP:20260420T033951
CREATED:20231030T150330Z
LAST-MODIFIED:20231030T150330Z
UID:1521-1698796800-1698883199@thewrensnestdaycare.com
SUMMARY:Meal Plan
DESCRIPTION:Breakfast:\nKIX CEREAL \nBANANA \nMILK \n\nSnack:\nFRENCH TOAST STIX \nMILK \n\nLunch:\nSALISBURY STEAK \nPEAS \nPEARS \nCORNBREAD \nMILK
URL:https://thewrensnestdaycare.com/menu/meal-plan-492/
CATEGORIES:Meal
END:VEVENT
BEGIN:VEVENT
DTSTART;VALUE=DATE:20231031
DTEND;VALUE=DATE:20231101
DTSTAMP:20260420T033951
CREATED:20230930T205157Z
LAST-MODIFIED:20230930T205157Z
UID:1516-1698710400-1698796799@thewrensnestdaycare.com
SUMMARY:Meal Plan
DESCRIPTION:Breakfast:\nSAUSAGE BISCUIT \nPINEAPPLES \nMILK \n\nSnack:\nORANGE MUFFIN \nMILK \n\nLunch:\nPORK RIB PATTY \nCORN \nPEACHES \nBREAD SLICE \nMILK
URL:https://thewrensnestdaycare.com/menu/meal-plan-491/
CATEGORIES:Meal
END:VEVENT
BEGIN:VEVENT
DTSTART;VALUE=DATE:20231030
DTEND;VALUE=DATE:20231031
DTSTAMP:20260420T033951
CREATED:20230930T205006Z
LAST-MODIFIED:20230930T205006Z
UID:1514-1698624000-1698710399@thewrensnestdaycare.com
SUMMARY:Meal Plan
DESCRIPTION:Breakfast:\nBLUEBERRY BAGEL \nAPPLESAUCE \nMILK \n\nSnack:\nCHEESE NIPS (SUB GRAHAM CRACKERS) \nAPPLE JUICE \n\nLunch:\nGRILLED CHICKEN STRIPS \nPEAS N CARROTS \nMIXED FRUIT \nBREAD SLICE \nMILK
URL:https://thewrensnestdaycare.com/menu/meal-plan-490/
CATEGORIES:Meal
END:VEVENT
BEGIN:VEVENT
DTSTART;VALUE=DATE:20231027
DTEND;VALUE=DATE:20231028
DTSTAMP:20260420T033951
CREATED:20230930T204704Z
LAST-MODIFIED:20230930T204704Z
UID:1512-1698364800-1698451199@thewrensnestdaycare.com
SUMMARY:Meal Plan
DESCRIPTION:Breakfast:\nBISCUIT N GRAVY \nAPRICOTS \nMILK \n\nSnack:\nPANCAKE \nMILK \n\nLunch:\nCHUCK WAGON PATTY \nGREEN BEANS \nMIXED FRUIT \nBREAD SLICE \nMILK
URL:https://thewrensnestdaycare.com/menu/meal-plan-489/
CATEGORIES:Meal
END:VEVENT
BEGIN:VEVENT
DTSTART;VALUE=DATE:20231026
DTEND;VALUE=DATE:20231027
DTSTAMP:20260420T033951
CREATED:20230930T204517Z
LAST-MODIFIED:20230930T204517Z
UID:1510-1698278400-1698364799@thewrensnestdaycare.com
SUMMARY:Meal Plan
DESCRIPTION:Breakfast:\nPANCAKE W/SYRUP \nMIXED FRUIT \nMILK \n\nSnack:\nGOLDFISH (SUB WHEAT CRACKERS) \nAPPLE JUICE \n\nLunch:\nTURKEY N GRAVY \nMIXED VEGGIES \nAPPLES \nBREAD SLICE \nMILK
URL:https://thewrensnestdaycare.com/menu/meal-plan-488/
CATEGORIES:Meal
END:VEVENT
BEGIN:VEVENT
DTSTART;VALUE=DATE:20231025
DTEND;VALUE=DATE:20231026
DTSTAMP:20260420T033951
CREATED:20230930T204303Z
LAST-MODIFIED:20230930T204303Z
UID:1507-1698192000-1698278399@thewrensnestdaycare.com
SUMMARY:Meal Plan
DESCRIPTION:Breakfast:\nCHEERIOS \nBANANA \nMILK \n\nSnack:\nBANANA BREAD \nMILK \n\nLunch:\nBEEF TACO SALAD LETT/TOM/CHEESE \nCORN \nAPPLESAUCE \nTORTILLA CHIPS \nMILK
URL:https://thewrensnestdaycare.com/menu/meal-plan-487/
CATEGORIES:Meal
END:VEVENT
BEGIN:VEVENT
DTSTART;VALUE=DATE:20231024
DTEND;VALUE=DATE:20231025
DTSTAMP:20260420T033951
CREATED:20230930T204123Z
LAST-MODIFIED:20230930T204331Z
UID:1505-1698105600-1698191999@thewrensnestdaycare.com
SUMMARY:Meal Plan
DESCRIPTION:Breakfast:\nTOASTED ENGLISH MUFFIN W/JELLY \nMANDARIN ORANGES \nMILK \n\nSnack:\nCINNAMON GRAHAMS \nWHITE GRAPE JUICE \n\nLunch:\nLEMON PEPPER CHICKEN \nGLAZED CARROTS \nPINEAPPLES \nBREAD SLICE \nMILK
URL:https://thewrensnestdaycare.com/menu/meal-plan-486/
CATEGORIES:Meal
END:VEVENT
BEGIN:VEVENT
DTSTART;VALUE=DATE:20231023
DTEND;VALUE=DATE:20231024
DTSTAMP:20260420T033952
CREATED:20230930T203943Z
LAST-MODIFIED:20230930T203943Z
UID:1503-1698019200-1698105599@thewrensnestdaycare.com
SUMMARY:Meal Plan
DESCRIPTION:Breakfast:\nCINNAMON FLATBREAD \nPEACHES \nMILK \n\nSnack:\nWAFFLE W/SYRUP \nMILK \n\nLunch:\nHOMEMADE BEEF GOULASH \nPEAS \nPEARS \nGRILLED CHEESE \nMILK
URL:https://thewrensnestdaycare.com/menu/meal-plan-485/
CATEGORIES:Meal
END:VEVENT
BEGIN:VEVENT
DTSTART;VALUE=DATE:20231020
DTEND;VALUE=DATE:20231021
DTSTAMP:20260420T033952
CREATED:20230930T203753Z
LAST-MODIFIED:20230930T203753Z
UID:1501-1697760000-1697846399@thewrensnestdaycare.com
SUMMARY:Meal Plan
DESCRIPTION:Breakfast:\nSAUSAGE BISCUIT \nAPRICOTS \nMILK \n\nSnack:\nCHEESE NIPS (SUB MUFFIN) \nWHITE GRAPE JUICE \n\nLunch:\nITALIAN CHICKEN \nGREEN BEANS \nPEACHES \nBREAD SLICE \nMILK
URL:https://thewrensnestdaycare.com/menu/meal-plan-484/
CATEGORIES:Meal
END:VEVENT
BEGIN:VEVENT
DTSTART;VALUE=DATE:20231019
DTEND;VALUE=DATE:20231020
DTSTAMP:20260420T033952
CREATED:20230930T203540Z
LAST-MODIFIED:20230930T203540Z
UID:1498-1697673600-1697759999@thewrensnestdaycare.com
SUMMARY:Meal Plan
DESCRIPTION:Breakfast:\nORANGE MUFFIN \nPINEAPPLE \nMILK \n\nSnack:\nPRETZLES \nPEANUT BUTTER (SUB WOW BUTTER) \nWATER \n\nLunch:\nSLOPPY JOES \nMIXED VEGGIES \nPEARS \nBUN \nMILK
URL:https://thewrensnestdaycare.com/menu/meal-plan-483/
CATEGORIES:Meal
END:VEVENT
BEGIN:VEVENT
DTSTART;VALUE=DATE:20231018
DTEND;VALUE=DATE:20231019
DTSTAMP:20260420T033952
CREATED:20230930T203350Z
LAST-MODIFIED:20230930T203612Z
UID:1496-1697587200-1697673599@thewrensnestdaycare.com
SUMMARY:Meal Plan
DESCRIPTION:Breakfast:\nCHEX CEREAL \nBANANA \nMILK \n\nSnack:\nYOUGURT (SUB MILK) \nANIMAL CRACKERS \nWATER \n\nLunch:\nHAM AND TURKEY SUB W/CHEESE \nPEAS \nMANDARIN ORANGES \nBUN \nMILK
URL:https://thewrensnestdaycare.com/menu/meal-plan-482/
CATEGORIES:Meal
END:VEVENT
BEGIN:VEVENT
DTSTART;VALUE=DATE:20231017
DTEND;VALUE=DATE:20231018
DTSTAMP:20260420T033952
CREATED:20230930T203011Z
LAST-MODIFIED:20230930T203011Z
UID:1494-1697500800-1697587199@thewrensnestdaycare.com
SUMMARY:Meal Plan
DESCRIPTION:Breakfast:\nPANCAKE W/SYRUP \nCINNAMON APPLES \nMILK \n\nSnack:\nSUN CHIPS \nAPPLE JUICE \n\nLunch:\nCHICKEN NUGGETS \nLIMA BEANS \nAPRICOTS \nBREAD SLICE \nMILK
URL:https://thewrensnestdaycare.com/menu/meal-plan-481/
CATEGORIES:Meal
END:VEVENT
BEGIN:VEVENT
DTSTART;VALUE=DATE:20231016
DTEND;VALUE=DATE:20231017
DTSTAMP:20260420T033952
CREATED:20230930T202729Z
LAST-MODIFIED:20230930T202729Z
UID:1492-1697414400-1697500799@thewrensnestdaycare.com
SUMMARY:Meal Plan
DESCRIPTION:Breakfast:\nFRENCH TOAST STIX \nMIXED FRUIT \nMILK \n\nSnack:\nTEDDY GRAHAMS \nMILK \n\nLunch:\nHOMEMADE CHILI \nGLAZED CARROTS \nAPPLESAUCE \nCRACKERS \nMILK
URL:https://thewrensnestdaycare.com/menu/meal-plan-480/
CATEGORIES:Meal
END:VEVENT
BEGIN:VEVENT
DTSTART;VALUE=DATE:20231013
DTEND;VALUE=DATE:20231014
DTSTAMP:20260420T033952
CREATED:20230930T202452Z
LAST-MODIFIED:20230930T202452Z
UID:1490-1697155200-1697241599@thewrensnestdaycare.com
SUMMARY:Meal Plan
DESCRIPTION:Breakfast:\nFRENCH TOAST STIX \nMANDARIN ORANGES \nMILK \n\nSnack:\nCINNAMON FLATBREAD \nAPPLE JUICE \n\nLunch:\nHOT DOG/CKN PATTY \nGREEN BEANS \nPEACHES \nBUN/BREAD \nMILK
URL:https://thewrensnestdaycare.com/menu/meal-plan-479/
CATEGORIES:Meal
END:VEVENT
BEGIN:VEVENT
DTSTART;VALUE=DATE:20231012
DTEND;VALUE=DATE:20231013
DTSTAMP:20260420T033952
CREATED:20230930T202316Z
LAST-MODIFIED:20230930T202316Z
UID:1488-1697068800-1697155199@thewrensnestdaycare.com
SUMMARY:Meal Plan
DESCRIPTION:Breakfast:\nHAM COMBO \nMIXED FRUIT \nBREAD SLICE \nMILK \n\nSnack:\nTURKEY SANDWICH \nWATER \n\nLunch:\nSPAGHETTI W/MEAT SAUCE \nCORN \nPINEAPPLES \nBREAD STIX \nMILK
URL:https://thewrensnestdaycare.com/menu/meal-plan-478/
CATEGORIES:Meal
END:VEVENT
BEGIN:VEVENT
DTSTART;VALUE=DATE:20231011
DTEND;VALUE=DATE:20231012
DTSTAMP:20260420T033952
CREATED:20230930T202108Z
LAST-MODIFIED:20230930T202108Z
UID:1485-1696982400-1697068799@thewrensnestdaycare.com
SUMMARY:Meal Plan
DESCRIPTION:Breakfast:\nKIX CEREAL \nBANANA \nMILK \n\nSnack:\nHONEY GRAHAMS \nPEANUT BUTER (SUB WOW BUTTER) \nWATER \n\nLunch:\nBAKED HAM \nGREEN BEANS \nSWEET POTATOES \nROLL \nMILK
URL:https://thewrensnestdaycare.com/menu/meal-plan-477/
CATEGORIES:Meal
END:VEVENT
BEGIN:VEVENT
DTSTART;VALUE=DATE:20231010
DTEND;VALUE=DATE:20231011
DTSTAMP:20260420T033952
CREATED:20230930T201924Z
LAST-MODIFIED:20230930T202137Z
UID:1483-1696896000-1696982399@thewrensnestdaycare.com
SUMMARY:Meal Plan
DESCRIPTION:Breakfast:\nCINNAMON FLATBREAD \nPEACHES \nMILK \n\nSnack:\nCHEX MIX \nMILK \n\nLunch:\nPORK RIB PATTY \nMIXED VEGGIES \nPEARS \nBREAD SLICE \nMILK
URL:https://thewrensnestdaycare.com/menu/meal-plan-476/
CATEGORIES:Meal
END:VEVENT
BEGIN:VEVENT
DTSTART;VALUE=DATE:20231009
DTEND;VALUE=DATE:20231010
DTSTAMP:20260420T033952
CREATED:20230930T201737Z
LAST-MODIFIED:20230930T201737Z
UID:1481-1696809600-1696895999@thewrensnestdaycare.com
SUMMARY:Meal Plan
DESCRIPTION:Breakfast:\nHASHBROWN PATTY \nAPRICOTS \nBREAD SLICE \nMILK \n\nSnack:\nGOLDFISH (SUB TEDDY GRAHAMS) \nWHITE GRAPE JUICE \n\nLunch:\nBEEF N BEAN BURRITO \nCORN \nCINNAMON APPLES \nRICE \nMILK
URL:https://thewrensnestdaycare.com/menu/meal-plan-475/
CATEGORIES:Meal
END:VEVENT
BEGIN:VEVENT
DTSTART;VALUE=DATE:20231006
DTEND;VALUE=DATE:20231007
DTSTAMP:20260420T033952
CREATED:20230930T201549Z
LAST-MODIFIED:20230930T201549Z
UID:1479-1696550400-1696636799@thewrensnestdaycare.com
SUMMARY:Meal Plan
DESCRIPTION:Breakfast:\nBISCUIT N GRAVY \nPEACHES \nMILK \n\nSnack:\nPIZZA STIX (SUB CHEX MIX) \nWHITE GRAPE JUICE \n\nLunch:\nBBQ PORK ON BUN \nGLAZED CARROTS \nAPRICOTS \nBUN \nMILK
URL:https://thewrensnestdaycare.com/menu/meal-plan-474/
CATEGORIES:Meal
END:VEVENT
BEGIN:VEVENT
DTSTART;VALUE=DATE:20231005
DTEND;VALUE=DATE:20231006
DTSTAMP:20260420T033952
CREATED:20230930T201351Z
LAST-MODIFIED:20230930T201408Z
UID:1476-1696464000-1696550399@thewrensnestdaycare.com
SUMMARY:Meal Plan
DESCRIPTION:Breakfast:\nPANCAKE W/SYRUP \nAPPLESAUCE \nMILK \n\nSnack:\nBANANA BREAD \nMILK \n\nLunch:\nHOMEMADE VEGETABLE BEEF SOUP \nLIMA BEANS \nAPPLES \nGRILLED CHEESE \nMILK
URL:https://thewrensnestdaycare.com/menu/meal-plan-473/
CATEGORIES:Meal
END:VEVENT
BEGIN:VEVENT
DTSTART;VALUE=DATE:20231004
DTEND;VALUE=DATE:20231005
DTSTAMP:20260420T033952
CREATED:20230930T201204Z
LAST-MODIFIED:20230930T201204Z
UID:1474-1696377600-1696463999@thewrensnestdaycare.com
SUMMARY:Meal Plan
DESCRIPTION:Breakfast:\nOATMEAL \nBANANA \nMILK \n\nSnack:\nPB&J JAMWICH (SUB WOW BUTTER AND JELLY) \nWATER \n\nLunch:\nCHICKEN NUGGETS \nCORN \nPEARS \nBREAD SLICE \nMILK
URL:https://thewrensnestdaycare.com/menu/meal-plan-472/
CATEGORIES:Meal
END:VEVENT
BEGIN:VEVENT
DTSTART;VALUE=DATE:20231003
DTEND;VALUE=DATE:20231004
DTSTAMP:20260420T033952
CREATED:20230930T200951Z
LAST-MODIFIED:20230930T201016Z
UID:1471-1696291200-1696377599@thewrensnestdaycare.com
SUMMARY:Meal Plan
DESCRIPTION:Breakfast:\nFRENCH TOAST STIX \nMIXED FRUIT \nMILK \n\nSnack:\nTORTILLA CHIPS \nCHEESE SAUCE/SALSA (SUB GOLD FISH FOR 1 YR OLDS) \nWATER \n\nLunch:\nHOT HAM N CHEESE \nBAKED BEANS \nMANDARIN ORANGES \nBUN \nMILK
URL:https://thewrensnestdaycare.com/menu/meal-plan-471/
CATEGORIES:Meal
END:VEVENT
BEGIN:VEVENT
DTSTART;VALUE=DATE:20231002
DTEND;VALUE=DATE:20231003
DTSTAMP:20260420T033952
CREATED:20230930T200642Z
LAST-MODIFIED:20230930T200642Z
UID:1469-1696204800-1696291199@thewrensnestdaycare.com
SUMMARY:Meal Plan
DESCRIPTION:Breakfast:\nBAGEL W/CREAM CHEESE \nPINEAPPLES \nMILK \n\nSnack:\nRITZ CRACKERS \nCHEESE CUBES (SUB MILK) \nWATER \n\nLunch:\nBEEF POT ROAST \nPOT/CARROTS \nAPRICOTS \nROLL \nMILK
URL:https://thewrensnestdaycare.com/menu/meal-plan-470/
CATEGORIES:Meal
END:VEVENT
BEGIN:VEVENT
DTSTART;VALUE=DATE:20230929
DTEND;VALUE=DATE:20230930
DTSTAMP:20260420T033952
CREATED:20230909T214637Z
LAST-MODIFIED:20230909T214637Z
UID:1466-1695945600-1696031999@thewrensnestdaycare.com
SUMMARY:Meal Plan
DESCRIPTION:Breakfast:\nFRENCH TOAST STIX \nAPPLESAUCE \nMILK \n\nSnack:\nSUN CHIPS (SUB WHEAT CRACKERS) \nWHITE GRAPE JUICE \n\nLunch:\nTACO SALAD LETT/TOM/CHEESE \nMIXED VEGGIES \nMANDARIN ORANGES \nTORTILLA CHIPS \nMILK
URL:https://thewrensnestdaycare.com/menu/meal-plan-469/
CATEGORIES:Meal
END:VEVENT
BEGIN:VEVENT
DTSTART;VALUE=DATE:20230928
DTEND;VALUE=DATE:20230929
DTSTAMP:20260420T033952
CREATED:20230909T214159Z
LAST-MODIFIED:20230909T214159Z
UID:1464-1695859200-1695945599@thewrensnestdaycare.com
SUMMARY:Meal Plan
DESCRIPTION:Breakfast:\nWAFFLES W SYRUP \nPEACHES \nMILK \n\nSnack:\nBOLOGNA SANDWICH \nWATER \n\nLunch:\nHOT DOG/RIB PATTY \nPINTO BEANS \nPEARS \nBUN/BREAD SLICE \nMILK
URL:https://thewrensnestdaycare.com/menu/meal-plan-468/
CATEGORIES:Meal
END:VEVENT
BEGIN:VEVENT
DTSTART;VALUE=DATE:20230927
DTEND;VALUE=DATE:20230928
DTSTAMP:20260420T033952
CREATED:20230909T213735Z
LAST-MODIFIED:20230909T213735Z
UID:1462-1695772800-1695859199@thewrensnestdaycare.com
SUMMARY:Meal Plan
DESCRIPTION:Breakfast:\nCHEERIOS \nBANANA \nMILK \n\nSnack:\nGOLDFISH (SUB TEDDY GRAHAMS) \nMILK \n\nLunch:\nPORK CHOP PATTY \nGREEN BEANS \nAPRICOTS \nBREAD SLICE \nMILK
URL:https://thewrensnestdaycare.com/menu/meal-plan-467/
CATEGORIES:Meal
END:VEVENT
BEGIN:VEVENT
DTSTART;VALUE=DATE:20230926
DTEND;VALUE=DATE:20230927
DTSTAMP:20260420T033952
CREATED:20230909T213418Z
LAST-MODIFIED:20230909T213418Z
UID:1460-1695686400-1695772799@thewrensnestdaycare.com
SUMMARY:Meal Plan
DESCRIPTION:Breakfast:\nHASHBROWN PATTY \nMIXED FRUIT \nBREAD SLICE \nMILK \n\nSnack:\nPANCAKE \nMILK \n\nLunch:\nITALIAN CHICKEN STRIPS \nPEAS \nPINEAPPLES \nBREAD SLICE \nMILK
URL:https://thewrensnestdaycare.com/menu/meal-plan-466/
CATEGORIES:Meal
END:VEVENT
BEGIN:VEVENT
DTSTART;VALUE=DATE:20230925
DTEND;VALUE=DATE:20230926
DTSTAMP:20260420T033952
CREATED:20230909T213117Z
LAST-MODIFIED:20230909T213117Z
UID:1458-1695600000-1695686399@thewrensnestdaycare.com
SUMMARY:Meal Plan
DESCRIPTION:Breakfast:\nBISCUITS N GRAVY \nAPRICOTS \nMILK \n\nSnack:\nCHEX MIX \nAPPLE JUICE \n\nLunch:\nSPAGHETTI W MEAT SAUCE \nCORN \nAPPLES \nBREAD STIX \nMILK
URL:https://thewrensnestdaycare.com/menu/meal-plan-465/
CATEGORIES:Meal
END:VEVENT
BEGIN:VEVENT
DTSTART;VALUE=DATE:20230922
DTEND;VALUE=DATE:20230923
DTSTAMP:20260420T033952
CREATED:20230909T212759Z
LAST-MODIFIED:20230909T212759Z
UID:1456-1695340800-1695427199@thewrensnestdaycare.com
SUMMARY:Meal Plan
DESCRIPTION:Breakfast:\nBLUEBERRY MUFFIN \nMANDARIN ORANGES \nMILK \n\nSnack:\nANIMAL CRACKERS \nYOGURT (SUB MILK) \nWATER \n\nLunch:\nHOT DOG/CHICKEN PATTY \nMIXED VEGGIES \nAPRICOTS \nBUN/BREAD SLICE \nMILK
URL:https://thewrensnestdaycare.com/menu/meal-plan-464/
CATEGORIES:Meal
END:VEVENT
END:VCALENDAR